BEGIN:VCALENDAR
VERSION:2.0
PRODID:-//www.landbouwagenda.nl//Agenda functie
X-WR-CALNAME:HZPC Velddag
CALSCALE:GREGORIAN
BEGIN:VTIMEZONE
TZID:Europe/Amsterdam
TZURL:http://tzurl.org/zoneinfo-outlook/Europe/Amsterdam
X-LIC-LOCATION:Europe/Amsterdam
BEGIN:DAYLIGHT
TZOFFSETFROM:+0100
TZOFFSETTO:+0200
TZNAME:CEST
DTSTART:19700329T020000
RRULE:FREQ=YEARLY;BYMONTH=3;BYDAY=-1SU
END:DAYLIGHT
BEGIN:STANDARD
TZOFFSETFROM:+0200
TZOFFSETTO:+0100
TZNAME:CET
DTSTART:19701025T030000
RRULE:FREQ=YEARLY;BYMONTH=10;BYDAY=-1SU
END:STANDARD
END:VTIMEZONE
BEGIN:VEVENT
DTSTAMP:20260423T171831Z
UID:69ea3847ef3e0
DTSTART;VALUE=DATE:20200630
DTEND;VALUE=DATE:20200630
SUMMARY:HZPC Velddag
URL;VALUE=URI:https://www.landbouwagenda.nl/evenement/3584-hzpc-velddag/
DESCRIPTION:HZPC Velddag voor de buitendienstgebieden van Hans Lakeman, Eric Jan List en Willem Esselink.
LOCATION:Fam. Miedema Ulkeweg 34 1774NW Slootdorp
END:VEVENT
END:VCALENDAR