BEGIN:VCALENDAR
VERSION:2.0
PRODID:-//www.landbouwagenda.nl//Agenda functie
X-WR-CALNAME:GEANNULEERD Meer waarde uit gras
CALSCALE:GREGORIAN
BEGIN:VTIMEZONE
TZID:Europe/Amsterdam
TZURL:http://tzurl.org/zoneinfo-outlook/Europe/Amsterdam
X-LIC-LOCATION:Europe/Amsterdam
BEGIN:DAYLIGHT
TZOFFSETFROM:+0100
TZOFFSETTO:+0200
TZNAME:CEST
DTSTART:19700329T020000
RRULE:FREQ=YEARLY;BYMONTH=3;BYDAY=-1SU
END:DAYLIGHT
BEGIN:STANDARD
TZOFFSETFROM:+0200
TZOFFSETTO:+0100
TZNAME:CET
DTSTART:19701025T030000
RRULE:FREQ=YEARLY;BYMONTH=10;BYDAY=-1SU
END:STANDARD
END:VTIMEZONE
BEGIN:VEVENT
DTSTAMP:20260421T231201Z
UID:69e7e8218b0fd
DTSTART;VALUE=DATE:20200401
DTEND;VALUE=DATE:20200402
SUMMARY:GEANNULEERD Meer waarde uit gras
URL;VALUE=URI:https://www.landbouwagenda.nl/evenement/3688-geannuleerd-meer-waarde-uit-gras/
DESCRIPTION:Meer waarde uit grasDate1 apr 2020 - 2 apr 2020Op woensdag 1 en donderdag 2 april organiseert Aeres Hogeschool Dronten met het Nederlands Agrarisch Jongeren Kontakt (NAJK) het evenement 'Meer waarde uit gras' bij het Agri Innovation Centre in Dronten.Een evenement voor studenten, NAJK-leden en jonge melkveehoudersGras is meer dan weidegang alleen. Gras kent vele functies en kwaliteiten. Denk bijvoorbeeld aan gras in kringlooplandbouw, kruidenrijk grasland, diergezondheid en –welzijn en koolstofvastlegging. Dit jaar word je uitgedaagd om verder te kijken, trends te onderzoeken en na te denken over de nieuwste ontwikkelingen op het gebied van grasland. Tijdens het evenement zijn er verschillende workshops te volgen die gegeven worden door veehouders, bedrijfsleven en onderzoekers.ProgrammaDatum:    woensdag 1 april en donderdag 2 april (meld je voor één van de dagen aan)Tijden:     vanaf 9.30 uur inloop, start 9.45 uur tot 15.00 uur, afsluitend vindt er een borrel plaatsLocatie:   Agri Innovation Centre, Wisentweg 13C in DrontenAanmeldenDeelname aan het evenement is kosteloos. Aanmelden voor één van de dagen is mogelijk t/m 30 maart via onderstaande aanmeldformulier.Meld je snel aan want vol = vol!Aanmelden?https://www.aereshogeschool.nl/agenda/evenementen/200401weidedagen
LOCATION:Agri Innovation Centre Wisentweg 13c 8251PB Dronten
END:VEVENT
END:VCALENDAR