BEGIN:VCALENDAR
VERSION:2.0
PRODID:-//www.landbouwagenda.nl//Agenda functie
X-WR-CALNAME:Proefvelddag Theunisse BV
CALSCALE:GREGORIAN
BEGIN:VTIMEZONE
TZID:Europe/Amsterdam
TZURL:http://tzurl.org/zoneinfo-outlook/Europe/Amsterdam
X-LIC-LOCATION:Europe/Amsterdam
BEGIN:DAYLIGHT
TZOFFSETFROM:+0100
TZOFFSETTO:+0200
TZNAME:CEST
DTSTART:19700329T020000
RRULE:FREQ=YEARLY;BYMONTH=3;BYDAY=-1SU
END:DAYLIGHT
BEGIN:STANDARD
TZOFFSETFROM:+0200
TZOFFSETTO:+0100
TZNAME:CET
DTSTART:19701025T030000
RRULE:FREQ=YEARLY;BYMONTH=10;BYDAY=-1SU
END:STANDARD
END:VTIMEZONE
BEGIN:VEVENT
DTSTAMP:20260424T125551Z
UID:69eb4c371187d
DTSTART;VALUE=DATE:20200701
DTEND;VALUE=DATE:20200701
SUMMARY:Proefvelddag Theunisse BV
URL;VALUE=URI:https://www.landbouwagenda.nl/evenement/3707-proefvelddag-theunisse-bv/
DESCRIPTION:GEANNULEERDRondgang proefveld met kleine groepen op uitnodiging.
LOCATION:Noordhoek Langeweg-Zuid  4758RZ Standdaarbuiten
END:VEVENT
END:VCALENDAR