BEGIN:VCALENDAR
VERSION:2.0
PRODID:-//www.landbouwagenda.nl//Agenda functie
X-WR-CALNAME:Slim boeren om de hoek
CALSCALE:GREGORIAN
BEGIN:VTIMEZONE
TZID:Europe/Amsterdam
TZURL:http://tzurl.org/zoneinfo-outlook/Europe/Amsterdam
X-LIC-LOCATION:Europe/Amsterdam
BEGIN:DAYLIGHT
TZOFFSETFROM:+0100
TZOFFSETTO:+0200
TZNAME:CEST
DTSTART:19700329T020000
RRULE:FREQ=YEARLY;BYMONTH=3;BYDAY=-1SU
END:DAYLIGHT
BEGIN:STANDARD
TZOFFSETFROM:+0200
TZOFFSETTO:+0100
TZNAME:CET
DTSTART:19701025T030000
RRULE:FREQ=YEARLY;BYMONTH=10;BYDAY=-1SU
END:STANDARD
END:VTIMEZONE
BEGIN:VEVENT
DTSTAMP:20260419T154454Z
UID:69e4dc56b89f0
DTSTART;VALUE=DATE:20200925
DTEND;VALUE=DATE:20200925
SUMMARY:Slim boeren om de hoek
URL;VALUE=URI:https://www.landbouwagenda.nl/evenement/4443-slim-boeren-om-de-hoek/
DESCRIPTION:Ga op avontuur bij veehouders bij jou om de hoek en ervaar hoe zij slim melken, slim voeren en slim verzorgen!  Het is mogelijk om bij meerdere bedrijven in de buurt te kijken op dezelfde dag tussen 10.00 en 16.00 uur. \n\nIn de stal worden 130 koeien gemolken. De robots staan in een kop-kop opstelling in de 3+3 stal sinds november 2019. De gemiddelde productie ligt op 37 kg per koe per dag. Zij maken ook gebruik van de Cow Locator, een Discovery mestrobot en Grazeway selectiepoort. Kom gerust kijken en luister naar de enthousiaste verhalen van de gebroeders te Braake.\n\nOnze events zijn Corona-proof, we houden ons aan de richtlijnen van de overheid en we willen jou dan ook vragen om je vooraf aan te melden.
LOCATION:Mts. te Braake Wilderhofsterweg 13 9939 TD Tjuchem
END:VEVENT
END:VCALENDAR