BEGIN:VCALENDAR
VERSION:2.0
PRODID:-//www.landbouwagenda.nl//Agenda functie
X-WR-CALNAME:Onlinecafé uiergezondheid
CALSCALE:GREGORIAN
BEGIN:VTIMEZONE
TZID:Europe/Amsterdam
TZURL:http://tzurl.org/zoneinfo-outlook/Europe/Amsterdam
X-LIC-LOCATION:Europe/Amsterdam
BEGIN:DAYLIGHT
TZOFFSETFROM:+0100
TZOFFSETTO:+0200
TZNAME:CEST
DTSTART:19700329T020000
RRULE:FREQ=YEARLY;BYMONTH=3;BYDAY=-1SU
END:DAYLIGHT
BEGIN:STANDARD
TZOFFSETFROM:+0200
TZOFFSETTO:+0100
TZNAME:CET
DTSTART:19701025T030000
RRULE:FREQ=YEARLY;BYMONTH=10;BYDAY=-1SU
END:STANDARD
END:VTIMEZONE
BEGIN:VEVENT
DTSTAMP:20260424T231108Z
UID:69ebdc6c27ce1
DTSTART;VALUE=DATE:20200928
DTEND;VALUE=DATE:20200928
SUMMARY:Onlinecafé uiergezondheid
URL;VALUE=URI:https://www.landbouwagenda.nl/evenement/4486-onlinecafe-uiergezondheid/
DESCRIPTION:Op maandag 28 september om 20.00 uur, tijdens het volgende VKON Onlinecafé staat het thema uiergezondheid centraal. \nDe spreker die deze avond praktische kennis en ervaringen met de gasten gaat delen is\ndierenarts Christian Scherpenzeel, expert uiergezondheid bij de GD. Naast uiergezondheid zijn ook melkkwaliteit en antibioticaresistentie specialismen van Christian. Op dit laatste thema is hij tevens gepromoveerd.\n\nBen je op zoek naar praktische kennis en tips omtrent het thema uiergezondheid of heb je nu al een vraag aan Christian? Meld je dan nu aan voor VKON’s Onlinecafé op maandag 28 september, 20:00 – 21:00 uur.
LOCATION:Thuis vanuit je luie stoel Daarleseweg 35a 7683 RC Den Ham
END:VEVENT
END:VCALENDAR