BEGIN:VCALENDAR
VERSION:2.0
PRODID:-//www.landbouwagenda.nl//Agenda functie
X-WR-CALNAME:Open dag hbo-opleiding Tuinbouw en Akkerbouw
CALSCALE:GREGORIAN
BEGIN:VTIMEZONE
TZID:Europe/Amsterdam
TZURL:http://tzurl.org/zoneinfo-outlook/Europe/Amsterdam
X-LIC-LOCATION:Europe/Amsterdam
BEGIN:DAYLIGHT
TZOFFSETFROM:+0100
TZOFFSETTO:+0200
TZNAME:CEST
DTSTART:19700329T020000
RRULE:FREQ=YEARLY;BYMONTH=3;BYDAY=-1SU
END:DAYLIGHT
BEGIN:STANDARD
TZOFFSETFROM:+0200
TZOFFSETTO:+0100
TZNAME:CET
DTSTART:19701025T030000
RRULE:FREQ=YEARLY;BYMONTH=10;BYDAY=-1SU
END:STANDARD
END:VTIMEZONE
BEGIN:VEVENT
DTSTAMP:20260420T234329Z
UID:69e69e0156b88
DTSTART;VALUE=DATE:20210206
DTEND;VALUE=DATE:20210206
SUMMARY:Open dag hbo-opleiding Tuinbouw en Akkerbouw
URL;VALUE=URI:https://www.landbouwagenda.nl/evenement/4530-open-dag-hbo-opleiding-tuinbouw-en-akkerbouw/
DESCRIPTION:Wil je ontdekken wat studeren bij Van Hall Larenstein betekent voor jou? Wil je alles weten over de opleiding Tuinbouw en Akkerbouw in Leeuwarden? Bezoek de open dag! Dé manier om (online) zo goed mogelijk te ervaren hoe het is om te studeren in Leeuwarden of Velp.
LOCATION:Hogeschool Van Hall Larenstein (mogelijk online) Agora 1 8934 CJ Leeuwarden
END:VEVENT
END:VCALENDAR