BEGIN:VCALENDAR
VERSION:2.0
PRODID:-//www.landbouwagenda.nl//Agenda functie
X-WR-CALNAME:Biokennisweek 2021
CALSCALE:GREGORIAN
BEGIN:VTIMEZONE
TZID:Europe/Amsterdam
TZURL:http://tzurl.org/zoneinfo-outlook/Europe/Amsterdam
X-LIC-LOCATION:Europe/Amsterdam
BEGIN:DAYLIGHT
TZOFFSETFROM:+0100
TZOFFSETTO:+0200
TZNAME:CEST
DTSTART:19700329T020000
RRULE:FREQ=YEARLY;BYMONTH=3;BYDAY=-1SU
END:DAYLIGHT
BEGIN:STANDARD
TZOFFSETFROM:+0200
TZOFFSETTO:+0100
TZNAME:CET
DTSTART:19701025T030000
RRULE:FREQ=YEARLY;BYMONTH=10;BYDAY=-1SU
END:STANDARD
END:VTIMEZONE
BEGIN:VEVENT
DTSTAMP:20260425T205250Z
UID:69ed0d82e57b9
DTSTART;VALUE=DATE:20210118
DTEND;VALUE=DATE:20210122
SUMMARY:Biokennisweek 2021
URL;VALUE=URI:https://www.landbouwagenda.nl/evenement/4580-biokennisweek-2021/
DESCRIPTION:De Biobeurs 2021 schakelt om naar een online event genaamd BioKennisWeek. Deze vindt van 18 tot en met 22 januari 2021 plaats. Dit kennisoverdracht platform zal de Biobeurs, die in dezelfde week gehouden zou worden, vervangen. \nMet de BioKennisWeek biedt de organisatie in 2021 een online platform waarbij kennisoverdracht en online ontmoeting voorop staan. De fysieke Biobeurs schuift door naar 2022.
LOCATION:Online    Online
END:VEVENT
END:VCALENDAR