BEGIN:VCALENDAR
VERSION:2.0
PRODID:-//www.landbouwagenda.nl//Agenda functie
X-WR-CALNAME:VITALstyle: kalveropfok en mastitisconcept
CALSCALE:GREGORIAN
BEGIN:VTIMEZONE
TZID:Europe/Amsterdam
TZURL:http://tzurl.org/zoneinfo-outlook/Europe/Amsterdam
X-LIC-LOCATION:Europe/Amsterdam
BEGIN:DAYLIGHT
TZOFFSETFROM:+0100
TZOFFSETTO:+0200
TZNAME:CEST
DTSTART:19700329T020000
RRULE:FREQ=YEARLY;BYMONTH=3;BYDAY=-1SU
END:DAYLIGHT
BEGIN:STANDARD
TZOFFSETFROM:+0200
TZOFFSETTO:+0100
TZNAME:CET
DTSTART:19701025T030000
RRULE:FREQ=YEARLY;BYMONTH=10;BYDAY=-1SU
END:STANDARD
END:VTIMEZONE
BEGIN:VEVENT
DTSTAMP:20260423T022120Z
UID:69e966000faf2
DTSTART;VALUE=DATE:20210223
DTEND;VALUE=DATE:20210223
SUMMARY:VITALstyle: kalveropfok en mastitisconcept
URL;VALUE=URI:https://www.landbouwagenda.nl/evenement/4662-vitalstyle-kalveropfok-en-mastitisconcept/
DESCRIPTION:Een protocollaire aanpak bij o.a. mastitis en kalveropfok.\nMeld je aan voor de gratis VITALstyle webinar. Na afloop van de webinar ontvang je 20% korting op het gehele VITALstyle assortiment!\nAanmelden kan eenvoudig via anouk@btndehaas.nl
LOCATION:Digitaal Osloweg 139 9723BK Groningen
END:VEVENT
END:VCALENDAR