BEGIN:VCALENDAR
VERSION:2.0
PRODID:-//www.landbouwagenda.nl//Agenda functie
X-WR-CALNAME:Kleine windmolens
CALSCALE:GREGORIAN
BEGIN:VTIMEZONE
TZID:Europe/Amsterdam
TZURL:http://tzurl.org/zoneinfo-outlook/Europe/Amsterdam
X-LIC-LOCATION:Europe/Amsterdam
BEGIN:DAYLIGHT
TZOFFSETFROM:+0100
TZOFFSETTO:+0200
TZNAME:CEST
DTSTART:19700329T020000
RRULE:FREQ=YEARLY;BYMONTH=3;BYDAY=-1SU
END:DAYLIGHT
BEGIN:STANDARD
TZOFFSETFROM:+0200
TZOFFSETTO:+0100
TZNAME:CET
DTSTART:19701025T030000
RRULE:FREQ=YEARLY;BYMONTH=10;BYDAY=-1SU
END:STANDARD
END:VTIMEZONE
BEGIN:VEVENT
DTSTAMP:20260421T114639Z
UID:69e7477f7d93e
DTSTART;VALUE=DATE:20210518
DTEND;VALUE=DATE:20210519
SUMMARY:Kleine windmolens
URL;VALUE=URI:https://www.landbouwagenda.nl/evenement/4760-kleine-windmolens/
DESCRIPTION:In ons bestaan hebben we al vele open dagen mogen organiseren. Helaas behoort zo’n dag nu nog niet tot de mogelijkheden, Maar… als het niet gaat zoals het moet, dan moet het maar zoals het gaat!\n\nU kunt, na aanmelding, komen ‘Kiekn en Luustern‘ of te wel ‘Kijken en Luisteren’!\n\nWanneer? Dinsdag 18 of woensdag 19 mei\nWaar? Stoofweg 8, Nieuwerkerk, Zeeland\n\nVorig jaar hebben wij bij deze boerderij een mooie Solid Wind Power 25kW windmolen mogen plaatsen en is dit melkveebedrijf zelfvoorzienend betreft haar stroombehoefte. De molen staat op een prachtige plek en heeft bijna 60.000kWh opgewekt. Bovendien is dit onze eerste kleine windmolen in de mooie provincie Zeeland. Alle reden om u op deze plek uit te nodigen.\n\nOp 18 en 19 mei zullen wij bij deze molen aanwezig zijn om een antwoord te geven op al uw vragen en laten u graag alles zien zoals:\n\nDe Solid Wind Power 25kW windmolen\nDe cilinders waarmee de molen hydraulisch gekanteld kan worden\nHet SCADA volgsysteem waarmee de productie en technische status van de molen van minuut-tot-minuut gevolgd kan worden\nEn nog veel meer.\n\nOm alles in goede banan te leiden met het oog op de Corona-maatregelen, vragen we u om aan te melden middels de volgende link: inschrijfformulier Kiekn en Luustern.\n\nmocht u vragen hebben bel of whats app gerust met onze vertegenwoordiger Gijs Hospers 0630457321
LOCATION:Melkveehouderij Marijnissen Stoofweg 8 4306 NC Nieuwerkerk
END:VEVENT
END:VCALENDAR