BEGIN:VCALENDAR
VERSION:2.0
PRODID:-//www.landbouwagenda.nl//Agenda functie
X-WR-CALNAME:Stakeholdersbijeenkomst Rundvee
CALSCALE:GREGORIAN
BEGIN:VTIMEZONE
TZID:Europe/Amsterdam
TZURL:http://tzurl.org/zoneinfo-outlook/Europe/Amsterdam
X-LIC-LOCATION:Europe/Amsterdam
BEGIN:DAYLIGHT
TZOFFSETFROM:+0100
TZOFFSETTO:+0200
TZNAME:CEST
DTSTART:19700329T020000
RRULE:FREQ=YEARLY;BYMONTH=3;BYDAY=-1SU
END:DAYLIGHT
BEGIN:STANDARD
TZOFFSETFROM:+0200
TZOFFSETTO:+0100
TZNAME:CET
DTSTART:19701025T030000
RRULE:FREQ=YEARLY;BYMONTH=10;BYDAY=-1SU
END:STANDARD
END:VTIMEZONE
BEGIN:VEVENT
DTSTAMP:20260420T232302Z
UID:69e699360bf0b
DTSTART;VALUE=DATE:20210923
DTEND;VALUE=DATE:20210923
SUMMARY:Stakeholdersbijeenkomst Rundvee
URL;VALUE=URI:https://www.landbouwagenda.nl/evenement/4810-stakeholdersbijeenkomst-rundvee/
DESCRIPTION:Op donderdag 23 september organiseren wij een avond voor erfbetreders van rundveebedrijven. Wij ontvangen u graag om 19:45.\n\nTijdens deze avond willen we u kennis laten maken met ons begeleidingssysteem KoeFit en zullen wij de onderwerpen jongveeopfok, transitieperiode, fertiliteit en actualiteiten aan bod laten komen.\n\nKoeFit is met recht bedrijfsbegeleiding op maat. Je kan KoeFit zien als een gereedschapskist waarin verschillende gereedschappen, tools, kunnen. Welke tools we gebruiken hangt af van de doelstelling van de veehouder of de aandachtspunten op het bedrijf. \n\nOf het nu gaat om het meten van biest in het kader van kalvergezondheid, scoren van de verse koeien in het kader van gezondheid en vruchtbaarheid, of het beoordelen van mest in relatie tot benutting van het rantsoen: alles gaat via een duidelijke, gestructureerde werkwijze.\nWe hopen dat de maatregelen het toelaten om u weer live te kunnen ontvangen bij Dieka van de Kruusweg.\n\nWe hopen u de 23e te ontvangen. Wij zien uw aanmelding graag tegemoet.
LOCATION:Dieka van de Kruusweg Oude Rijssenseweg 11 7475 SM Markelo
END:VEVENT
END:VCALENDAR