BEGIN:VCALENDAR
VERSION:2.0
PRODID:-//www.landbouwagenda.nl//Agenda functie
X-WR-CALNAME:Twentse After Summer Show
CALSCALE:GREGORIAN
BEGIN:VTIMEZONE
TZID:Europe/Amsterdam
TZURL:http://tzurl.org/zoneinfo-outlook/Europe/Amsterdam
X-LIC-LOCATION:Europe/Amsterdam
BEGIN:DAYLIGHT
TZOFFSETFROM:+0100
TZOFFSETTO:+0200
TZNAME:CEST
DTSTART:19700329T020000
RRULE:FREQ=YEARLY;BYMONTH=3;BYDAY=-1SU
END:DAYLIGHT
BEGIN:STANDARD
TZOFFSETFROM:+0200
TZOFFSETTO:+0100
TZNAME:CET
DTSTART:19701025T030000
RRULE:FREQ=YEARLY;BYMONTH=10;BYDAY=-1SU
END:STANDARD
END:VTIMEZONE
BEGIN:VEVENT
DTSTAMP:20260422T232539Z
UID:69e93cd37028a
DTSTART;VALUE=DATE:20211029
DTEND;VALUE=DATE:20211029
SUMMARY:Twentse After Summer Show
URL;VALUE=URI:https://www.landbouwagenda.nl/evenement/4833-twentse-after-summer-show/
DESCRIPTION:Young Breeders en melkvee show. Een avondvullend programma met de beste young breeders uit Twente die hun vakmanschap tonen op het gebied van voorbrengen van hun dieren. Daarnaast treden de beste rood- en zwartbonte koeien van Twente aan in de meest sfeervolle showring.
LOCATION:Manege &quot;De Vjenneruiters&quot; Schout Doddestraat 13 7671 GT Vriezenveen
END:VEVENT
END:VCALENDAR