BEGIN:VCALENDAR
VERSION:2.0
PRODID:-//www.landbouwagenda.nl//Agenda functie
X-WR-CALNAME:Oldtimer Happening Werktuigendagen
CALSCALE:GREGORIAN
BEGIN:VTIMEZONE
TZID:Europe/Amsterdam
TZURL:http://tzurl.org/zoneinfo-outlook/Europe/Amsterdam
X-LIC-LOCATION:Europe/Amsterdam
BEGIN:DAYLIGHT
TZOFFSETFROM:+0100
TZOFFSETTO:+0200
TZNAME:CEST
DTSTART:19700329T020000
RRULE:FREQ=YEARLY;BYMONTH=3;BYDAY=-1SU
END:DAYLIGHT
BEGIN:STANDARD
TZOFFSETFROM:+0200
TZOFFSETTO:+0100
TZNAME:CET
DTSTART:19701025T030000
RRULE:FREQ=YEARLY;BYMONTH=10;BYDAY=-1SU
END:STANDARD
END:VTIMEZONE
BEGIN:VEVENT
DTSTAMP:20260421T115757Z
UID:69e74a25411b2
DTSTART;VALUE=DATE:20210925
DTEND;VALUE=DATE:20210926
SUMMARY:Oldtimer Happening Werktuigendagen
URL;VALUE=URI:https://www.landbouwagenda.nl/evenement/4929-oldtimer-happening-werktuigendagen/
DESCRIPTION:De Werktuigendagen vieren dit jaar dubbel feest! Niet alleen vindt dit outdoor landbouwevenement voor de 35ste keer plaats, in het kader ervan wordt ook voor de 10de keer een grootse oldtimerhappening georganiseerd!\nDe organisatie spaart kosten noch moeite om van dit jubileum een onvergetelijke gebeurtenis te maken en pakt uit met een gevarieerd programma:\n• Een tentoonstelling van oldtimertractoren van vóór 1980;\n• De 'Belgian Oldtimer Tractoren Award' met als thema Massey-Harris / Ferguson / Massey-Ferguson;\n• Demo’s met oldtimerhooibouwapparatuur en oldtimermaïshakselaars.
LOCATION:Werktuigendagen Oudenaarde Axelwalle 14 9700 Oudenaarde
END:VEVENT
END:VCALENDAR