BEGIN:VCALENDAR
VERSION:2.0
PRODID:-//www.landbouwagenda.nl//Agenda functie
X-WR-CALNAME:Deze zomer elke dag een velddag!
CALSCALE:GREGORIAN
BEGIN:VTIMEZONE
TZID:Europe/Amsterdam
TZURL:http://tzurl.org/zoneinfo-outlook/Europe/Amsterdam
X-LIC-LOCATION:Europe/Amsterdam
BEGIN:DAYLIGHT
TZOFFSETFROM:+0100
TZOFFSETTO:+0200
TZNAME:CEST
DTSTART:19700329T020000
RRULE:FREQ=YEARLY;BYMONTH=3;BYDAY=-1SU
END:DAYLIGHT
BEGIN:STANDARD
TZOFFSETFROM:+0200
TZOFFSETTO:+0100
TZNAME:CET
DTSTART:19701025T030000
RRULE:FREQ=YEARLY;BYMONTH=10;BYDAY=-1SU
END:STANDARD
END:VTIMEZONE
BEGIN:VEVENT
DTSTAMP:20260422T152609Z
UID:69e8cc7133139
DTSTART;VALUE=DATE:20210808
DTEND;VALUE=DATE:20210930
SUMMARY:Deze zomer elke dag een velddag!
URL;VALUE=URI:https://www.landbouwagenda.nl/evenement/4957-deze-zomer-elke-dag-een-velddag/
DESCRIPTION:Het parcour van de Velddag ziet er dit jaar heel anders uit ! \nEen zomer vol activiteiten met video’s vanuit je luie stoel om te bekijken, podcasts om te luisteren en velden om te bezoeken. Niet op één fysieke plek in Lelystad maar hybride. Met online video en fotopresentaties en veldexcursies van demovelden verspreid over heel Nederland. Hieronder enkele uitgelicht\nBeluister de Velddag podcasts\nTijdens de velddagen verwelkomen 10 telers, boeren en bedrijven bezoekers op hun akker of demoveld. Om bezoekers extra te informeren over de resultaten van de proeven in het veld heeft het BioVelddag team podcasts opgenomen met praktische tips voor in het veld, achtergronden, ervaringen en resulaten. \n\nBeluister de podcasts op www.biovelddagen.nl. Of natuurlijk in het veld! Heel simpel: scan de QR-code op het bord van de BioVelddag met je telefoon.
LOCATION:Vanwege corona restricties niet op boerderij van de toekomst in Lelystad maar verspreid in kleine zelf standige groepjes door heel Nederland &amp; online ! Edelhertweg 1 8219 PH Lelystad
END:VEVENT
END:VCALENDAR