BEGIN:VCALENDAR
VERSION:2.0
PRODID:-//www.landbouwagenda.nl//Agenda functie
X-WR-CALNAME:Ruwvoerdag: Ruwvoerteelt en -benutting in Oldeberkoop
CALSCALE:GREGORIAN
BEGIN:VTIMEZONE
TZID:Europe/Amsterdam
TZURL:http://tzurl.org/zoneinfo-outlook/Europe/Amsterdam
X-LIC-LOCATION:Europe/Amsterdam
BEGIN:DAYLIGHT
TZOFFSETFROM:+0100
TZOFFSETTO:+0200
TZNAME:CEST
DTSTART:19700329T020000
RRULE:FREQ=YEARLY;BYMONTH=3;BYDAY=-1SU
END:DAYLIGHT
BEGIN:STANDARD
TZOFFSETFROM:+0200
TZOFFSETTO:+0100
TZNAME:CET
DTSTART:19701025T030000
RRULE:FREQ=YEARLY;BYMONTH=10;BYDAY=-1SU
END:STANDARD
END:VTIMEZONE
BEGIN:VEVENT
DTSTAMP:20260422T120152Z
UID:69e89c906ee69
DTSTART;VALUE=DATE:20210923
DTEND;VALUE=DATE:20210923
SUMMARY:Ruwvoerdag: Ruwvoerteelt en -benutting in Oldeberkoop
URL;VALUE=URI:https://www.landbouwagenda.nl/evenement/4990-ruwvoerdag-ruwvoerteelt-en-benutting-in-boijl/
DESCRIPTION:Programma\n\n1. Welkom - 10:00 tot 10:30\nU bent van harte welkom op melkveebedrijf Bouma-Dijkstra. Inloop met koffie/thee en iets lekkers.\n\n2. Welkomstwoord en toelichting programma - 10:30 tot 10:45\nWoord van welkom plus toelichting op het programma voor vandaag en op het belang van ruwvoer.\n\n3. "Maisteelt in al haar facetten" door Arjan Lassche (KWS) - 10:45 tot 11:15\n‘Waarom wordt er maïs geteeld’ en hoe, rekening houdende met wet- en regelgeving, ziet de toekomst van de maïsteelt er uit? We gaan even terug naar het verleden, door terug te grijpen op de redenen waarom er in Nederland gestart is met de maïsteelt en of deze heden ten dage nog steeds gelden. Het ‘waarom’ als het gaat om maïsteelt wordt in beeld gebracht. En hoe dat dan nu, anno 2021, maar ook naar de toekomst toe, moet.\n\n4. Melkveehouder aan het woord - 11:15 tot 11:45\nFamilie Bouma (Marten, Gea en dochter Marinda) vertelt over hun bedrijf.\n\n5. Workshopronde 1 - "Mijn toekomstige bouwplan" - 11:50 tot 12:20\nHoe ziet jouw toekomstige bouwplan eruit?\nHoeveel verschillende grasmengsels telt jouw bedrijf? Met een divers bouwplan oogst je méér ruwvoer van je land: ruwvoer dat ook nog eens beter aansluit bij jouw behoeftes. Factoren zoals je bedrijfssituatie, de grondsoort, de conditie van je bodem en je maatschappelijke verantwoordelijkheid zijn belangrijk in het creëren van een passend bouwplan. Hoe maak je de juiste keuzes op basis van deze kenmerken? Laat je inspireren en adviseren door de grasspecialisten van Barenbrug.\n\n6. Lunch - 12:20 tot 13:20\nGeniet samen met uw collega melkveehouders van een lekkere lunch. Uiteraard wordt dit geheel verzorgd door de partners.\n\n7. Workshopronde 2 - Bodem in balans door Gerwin van Ramshorst (Agra-Matic Mineraal) - 13:20 tot 13:50\nWaar kijk je naar bij het maken van een farmwalk en welke acties zijn er om je bodem in balans te houden en te krijgen?\nTijdens deze interactieve workshopronde willen we daarover in gesprek.\n\n8. Workshopronde 3 - Aanpak droogstandsrantsoen - 13:55 tot 14:25\nRundveespecialist Gerard van Norel neemt u op praktische wijze mee in het (droogstands)rantsoen van het gastbedrijf.\nDit bedrijf had in het verleden nogal last van cystes op de eierstokken. Dit kan een gevolg zijn van slepende melkziekte (ketose) en een negatieve energiebalans tijdens de start van de lactatie geven. Door kritisch naar het droogstandsrantsoen te kijken en door te rekenen is er inmiddels minder last van cystes en een betere opstart van de lactatie.\nSinds kort is er een aparte krachtvoerbox bij de droge koeien, waar de droogstandsbrok Toplac zo’n 14 dagen voor afkalfdatum wordt verstrekt.\nDe resultaten delen we graag tijdens deze workshop.\n\n9. Workshopronde 4 - Bemesting op het gastbedrijf en resultaten bemestingsproeven van 3 externe locaties door Gert Anker van de Heus i.s.m. collega’s van Agramatic Mineraal - 14:30 tot 15:00\nWe bespreken in de eerste plaats de bemesting van het gastbedrijf. Daarbij staat aanwending en benutting van eigen drijfmest centraal. Daarnaast kijken we naar aanvullende kunstmest op het gastbedrijf en de resultaten van dit bijzondere voorjaar.\nOp een drietal locaties hebben we de resultaten van de eerste en tweede snede. Op elke locatie liggen diverse objecten met meststoffen naast elkaar.\nMet elkaar kunnen we dan resultaten bespreken en een stukje discussie voeren!\n\n10. Bar-praat - 15:00 tot 16:00\nAfsluiting en bar-praat met uiteraard een drankje.
LOCATION:Melkveebedrijf Bouma-Dijkstra Wolvegasterdijk 71 8421 PR Oldeberkoop
END:VEVENT
END:VCALENDAR