BEGIN:VCALENDAR
VERSION:2.0
PRODID:-//www.landbouwagenda.nl//Agenda functie
X-WR-CALNAME:Online kennisbijeenkomst nieuwe biologische wetgeving legpluimvee
CALSCALE:GREGORIAN
BEGIN:VTIMEZONE
TZID:Europe/Amsterdam
TZURL:http://tzurl.org/zoneinfo-outlook/Europe/Amsterdam
X-LIC-LOCATION:Europe/Amsterdam
BEGIN:DAYLIGHT
TZOFFSETFROM:+0100
TZOFFSETTO:+0200
TZNAME:CEST
DTSTART:19700329T020000
RRULE:FREQ=YEARLY;BYMONTH=3;BYDAY=-1SU
END:DAYLIGHT
BEGIN:STANDARD
TZOFFSETFROM:+0200
TZOFFSETTO:+0100
TZNAME:CET
DTSTART:19701025T030000
RRULE:FREQ=YEARLY;BYMONTH=10;BYDAY=-1SU
END:STANDARD
END:VTIMEZONE
BEGIN:VEVENT
DTSTAMP:20260420T123024Z
UID:69e600401abac
DTSTART;VALUE=DATE:20210928
DTEND;VALUE=DATE:20210928
SUMMARY:Online kennisbijeenkomst nieuwe biologische wetgeving legpluimvee
URL;VALUE=URI:https://www.landbouwagenda.nl/evenement/5018-online-kennisbijeenkomst-nieuwe-biologische-wetgeving-legpluimvee/
DESCRIPTION:Online kennisbijeenkomst nieuwe biologische wetgeving legpluimvee\n\nPer 1 januari 2022 gaat de nieuwe biologische wetgeving in. De wijzigingen hebben veel invloed op de biologische legpluimveehouderij. We organiseren dit jaar daarom drie kennisbijeenkomsten. Tijdens deze tweede bijeenkomst komt aan bod hoe we als sector anticiperen op de nieuwe regels zodat we met z’n allen voorbereid zijn. Hierbij kijken we naar opfok, eiermarkt en voer. De laatste bijeenkomst zal in het teken staan van onze aanpak.\n\nProgramma\n20.00 uur	Opening\n                Johan Schuttert, commercieel directeur AR\n\n20.05 uur	Ontwikkelingen nieuwe wetgeving op opfok\n                Jan Vroegindeweij, Kuikenbroederij en pluimveebedrijf Het Anker\n\n20.20 uur	Wijzigingen biologische wetgeving: begin van het einde of einde van het begin?\n                John Achterstraat, algemeen directeur Kwetters\n\n20.35 uur Update. Wat betekent de nieuwe biologische wetgeving voor voeding en management?\n  	       Henno van den Bruinhorst, verkoopleider pluimvee AR\n               Dennis van Vilsteren, nutritionist pluimvee AR\n\n20.50 uur Vragen\n21.00 uur	Afsluiting\n\nAanmelden + meer info\nOm deel te kunnen nemen aan deze online bijeenkomst dient u zich van te voren aan te melden.
LOCATION:Online - Teams Rijnhaven 14 6702 DT Wageningen
END:VEVENT
END:VCALENDAR