BEGIN:VCALENDAR
VERSION:2.0
PRODID:-//www.landbouwagenda.nl//Agenda functie
X-WR-CALNAME:Cursus Voeding Melkvee
CALSCALE:GREGORIAN
BEGIN:VTIMEZONE
TZID:Europe/Amsterdam
TZURL:http://tzurl.org/zoneinfo-outlook/Europe/Amsterdam
X-LIC-LOCATION:Europe/Amsterdam
BEGIN:DAYLIGHT
TZOFFSETFROM:+0100
TZOFFSETTO:+0200
TZNAME:CEST
DTSTART:19700329T020000
RRULE:FREQ=YEARLY;BYMONTH=3;BYDAY=-1SU
END:DAYLIGHT
BEGIN:STANDARD
TZOFFSETFROM:+0200
TZOFFSETTO:+0100
TZNAME:CET
DTSTART:19701025T030000
RRULE:FREQ=YEARLY;BYMONTH=10;BYDAY=-1SU
END:STANDARD
END:VTIMEZONE
BEGIN:VEVENT
DTSTAMP:20260421T104306Z
UID:69e7389a731c3
DTSTART;VALUE=DATE:20211119
DTEND;VALUE=DATE:20211201
SUMMARY:Cursus Voeding Melkvee
URL;VALUE=URI:https://www.landbouwagenda.nl/evenement/5070-cursus-voeding-melkvee/
DESCRIPTION:Met de cursus Voeding Melkvee krijg je meer inzicht in het optimaliseren van het rantsoen voor melkkoeien, zodat je minder afhankelijk bent van een voerleverancier. Met de opgedane kennis ben je in staat zelf meer regie te nemen, kritisch te zijn en te sturen op kosten.\n\nVoor wie?\nJe bent werkzaam in de melkveehouderij en je wilt leren….\n• Hoe je jouw rantsoen voor melkvee kunt optimaliseren\n• Hoe je de regie krijgt over voerkosten\n• Hoe je problemen oplost door processen beter te begrijpen in plaats van producten aan te schaffen\n• Hoe je kritisch kunt zijn naar leveranciers en adviseurs\n\nWat ga je leren?\nIn 4 dagdelen leer je de basis voor het samenstellen van het optimale rantsoen voor jouw koeien. Dit betekent dat je leert wat je naast jouw ruwvoer moet voeren om tot een optimaal rantsoen te komen.\n\nDag 1: Vertering en voederwaardering\nDag 2: Optimaliseren met grondstoffen en/of bijproducten in het\nrantsoen\nDag 3: Koesignalen, de MPR en melkleveranties vertalen naar optimalisatiepunten\nDag 4: De Praktijk\n\nMeer informatie of aanmelden?\nwww.vibacademy.com
LOCATION:Veldzichthoeve Doorbraakweg 6 1735 EK &#039;t Veld
END:VEVENT
END:VCALENDAR