BEGIN:VCALENDAR
VERSION:2.0
PRODID:-//www.landbouwagenda.nl//Agenda functie
X-WR-CALNAME:Open Dag CZAV/Rusthoeve 2022 (let op: verplaatst naar 23 juni!)
CALSCALE:GREGORIAN
BEGIN:VTIMEZONE
TZID:Europe/Amsterdam
TZURL:http://tzurl.org/zoneinfo-outlook/Europe/Amsterdam
X-LIC-LOCATION:Europe/Amsterdam
BEGIN:DAYLIGHT
TZOFFSETFROM:+0100
TZOFFSETTO:+0200
TZNAME:CEST
DTSTART:19700329T020000
RRULE:FREQ=YEARLY;BYMONTH=3;BYDAY=-1SU
END:DAYLIGHT
BEGIN:STANDARD
TZOFFSETFROM:+0200
TZOFFSETTO:+0100
TZNAME:CET
DTSTART:19701025T030000
RRULE:FREQ=YEARLY;BYMONTH=10;BYDAY=-1SU
END:STANDARD
END:VTIMEZONE
BEGIN:VEVENT
DTSTAMP:20260426T055348Z
UID:69ed8c4c7ebca
DTSTART;VALUE=DATE:20220623
DTEND;VALUE=DATE:20220623
SUMMARY:Open Dag CZAV/Rusthoeve 2022 (let op: verplaatst naar 23 juni!)
URL;VALUE=URI:https://www.landbouwagenda.nl/evenement/5104-open-dag-czav-rusthoeve-2022/
DESCRIPTION:In verband met de actuele ontwikkelingen in de sector is besloten om de Open Dag CZAV/Rusthoeve te verplaatsen naar donderdag 23 juni 2022. Je bent van harte welkom tussen 9.00 en 19.00 uur in Colijnsplaat. \n\nHet thema van de Open Dag heeft alles te maken met de toekomst van de boeren: ‘Innoveren & renderen’. Een breed en actueel thema binnen de landbouwsector, waar alle telers nu mee te maken hebben. CZAV denkt actief mee op landelijk niveau om deze uitwerking zo haalbaar en praktisch mogelijk te maken. Door proeven aan te leggen en alternatieven te bekijken, blijven we meezoeken naar antwoorden die zo hard nodig zijn in deze sector.\n\nOp de Open Dag CZAV/Rusthoeve heb je de mogelijkheid om je licentie te verlengen voor het onderdeel ‘Teelt’ en ‘Veiligheid & Techniek’. Mis je nog een bijeenkomst? Volg er dan een op de Open Dag. Zo sla je twee vliegen in een klap, want je kunt ook direct een rondgang volgen en je vragen stellen aan onze adviseurs. Aanmelden is verplicht! \nVia https://proefboerderij-rusthoeve.nl/p/230/Aanmelden-open-dag-2022
LOCATION:Proefboerderij Rusthoeve Noordlangeweg 42 4486 PR Colijnsplaat
END:VEVENT
END:VCALENDAR