BEGIN:VCALENDAR
VERSION:2.0
PRODID:-//www.landbouwagenda.nl//Agenda functie
X-WR-CALNAME:Open dag hbo associate degree (Biologische) Melkveehouderij in Leeuwarden
CALSCALE:GREGORIAN
BEGIN:VTIMEZONE
TZID:Europe/Amsterdam
TZURL:http://tzurl.org/zoneinfo-outlook/Europe/Amsterdam
X-LIC-LOCATION:Europe/Amsterdam
BEGIN:DAYLIGHT
TZOFFSETFROM:+0100
TZOFFSETTO:+0200
TZNAME:CEST
DTSTART:19700329T020000
RRULE:FREQ=YEARLY;BYMONTH=3;BYDAY=-1SU
END:DAYLIGHT
BEGIN:STANDARD
TZOFFSETFROM:+0200
TZOFFSETTO:+0100
TZNAME:CET
DTSTART:19701025T030000
RRULE:FREQ=YEARLY;BYMONTH=10;BYDAY=-1SU
END:STANDARD
END:VTIMEZONE
BEGIN:VEVENT
DTSTAMP:20260424T190230Z
UID:69eba22699423
DTSTART;VALUE=DATE:20211113
DTEND;VALUE=DATE:20211113
SUMMARY:Open dag hbo associate degree (Biologische) Melkveehouderij in Leeuwarden
URL;VALUE=URI:https://www.landbouwagenda.nl/evenement/5147-open-dag-hbo-associate-degree-biologische-melkveehouderij-in-leeuwarden/
DESCRIPTION:Op zaterdag 13 november is het zover, dan staan de deuren wagenwijd voor jou open. Geen online impressies, maar gewoon ‘ouderwets’ een open dag op onze locatie Leeuwarden. Tussen 10:00 tot 15:00 uur nemen we je mee naar de opleiding en stellen we je voor aan docenten en studenten. En misschien wel het belangrijkste: kun je de sfeer proeven op onze locatie. Kortom, alles om ervoor te zorgen dat jij na afloop met een gerust hart je definitieve studiekeuze kunt maken.
LOCATION:HVHL Leeuwarden Agora 1 8934 CJ Leeuwarden
END:VEVENT
END:VCALENDAR