BEGIN:VCALENDAR
VERSION:2.0
PRODID:-//www.landbouwagenda.nl//Agenda functie
X-WR-CALNAME:Algemene Ledenvergadering Nederlandse Akkerbouw Vakbond
CALSCALE:GREGORIAN
BEGIN:VTIMEZONE
TZID:Europe/Amsterdam
TZURL:http://tzurl.org/zoneinfo-outlook/Europe/Amsterdam
X-LIC-LOCATION:Europe/Amsterdam
BEGIN:DAYLIGHT
TZOFFSETFROM:+0100
TZOFFSETTO:+0200
TZNAME:CEST
DTSTART:19700329T020000
RRULE:FREQ=YEARLY;BYMONTH=3;BYDAY=-1SU
END:DAYLIGHT
BEGIN:STANDARD
TZOFFSETFROM:+0200
TZOFFSETTO:+0100
TZNAME:CET
DTSTART:19701025T030000
RRULE:FREQ=YEARLY;BYMONTH=10;BYDAY=-1SU
END:STANDARD
END:VTIMEZONE
BEGIN:VEVENT
DTSTAMP:20260421T063401Z
UID:69e6fe3931a12
DTSTART;VALUE=DATE:20220216
DTEND;VALUE=DATE:20220216
SUMMARY:Algemene Ledenvergadering Nederlandse Akkerbouw Vakbond
URL;VALUE=URI:https://www.landbouwagenda.nl/evenement/5272-algemene-ledenvergadering-nederlandse-akkerbouw-vakbond/
DESCRIPTION:De Algemene Ledenvergadering van de Nederlandse Akkerbouw Vakbond
LOCATION:Vergader- en Congrescentrum De Schakel Oranjelaan 10 3862 CX Nijkerk
END:VEVENT
END:VCALENDAR