BEGIN:VCALENDAR
VERSION:2.0
PRODID:-//www.landbouwagenda.nl//Agenda functie
X-WR-CALNAME:Digitale bijeenkomst leden Pootaardappelacademie Flevoland
CALSCALE:GREGORIAN
BEGIN:VTIMEZONE
TZID:Europe/Amsterdam
TZURL:http://tzurl.org/zoneinfo-outlook/Europe/Amsterdam
X-LIC-LOCATION:Europe/Amsterdam
BEGIN:DAYLIGHT
TZOFFSETFROM:+0100
TZOFFSETTO:+0200
TZNAME:CEST
DTSTART:19700329T020000
RRULE:FREQ=YEARLY;BYMONTH=3;BYDAY=-1SU
END:DAYLIGHT
BEGIN:STANDARD
TZOFFSETFROM:+0200
TZOFFSETTO:+0100
TZNAME:CET
DTSTART:19701025T030000
RRULE:FREQ=YEARLY;BYMONTH=10;BYDAY=-1SU
END:STANDARD
END:VTIMEZONE
BEGIN:VEVENT
DTSTAMP:20260419T143320Z
UID:69e4cb902e3d7
DTSTART;VALUE=DATE:20220124
DTEND;VALUE=DATE:20220124
SUMMARY:Digitale bijeenkomst leden Pootaardappelacademie Flevoland
URL;VALUE=URI:https://www.landbouwagenda.nl/evenement/5280-digitale-bijeenkomst-leden-pootaardappelacademie-flevoland/
DESCRIPTION:Digitale bijeenkomst PA Flevoland (voor leden)\naanvangstijd: 20.00 uur\nOnderwerp Virus en vector
LOCATION:Digitale bijeenkomst/webinar De Drieslag 25 8251JZ Dronten
END:VEVENT
END:VCALENDAR