BEGIN:VCALENDAR
VERSION:2.0
PRODID:-//www.landbouwagenda.nl//Agenda functie
X-WR-CALNAME:Future Farming &amp; Food Experience
CALSCALE:GREGORIAN
BEGIN:VTIMEZONE
TZID:Europe/Amsterdam
TZURL:http://tzurl.org/zoneinfo-outlook/Europe/Amsterdam
X-LIC-LOCATION:Europe/Amsterdam
BEGIN:DAYLIGHT
TZOFFSETFROM:+0100
TZOFFSETTO:+0200
TZNAME:CEST
DTSTART:19700329T020000
RRULE:FREQ=YEARLY;BYMONTH=3;BYDAY=-1SU
END:DAYLIGHT
BEGIN:STANDARD
TZOFFSETFROM:+0200
TZOFFSETTO:+0100
TZNAME:CET
DTSTART:19701025T030000
RRULE:FREQ=YEARLY;BYMONTH=10;BYDAY=-1SU
END:STANDARD
END:VTIMEZONE
BEGIN:VEVENT
DTSTAMP:20260423T101724Z
UID:69e9d594bcdd6
DTSTART;VALUE=DATE:20220531
DTEND;VALUE=DATE:20220531
SUMMARY:Future Farming &amp; Food Experience
URL;VALUE=URI:https://www.landbouwagenda.nl/evenement/5415-future-farming-food-experience/
DESCRIPTION:Op dinsdag 31 mei organiseren NPPL en Boerderij van de Toekomst in Lelystad ‘Future Farming & Food Experience’. \nOp deze dag ontdek je de toekomst die vooral inspireert én krijg je antwoord op de vraag ‘wat is er vandaag mogelijk in de praktijk?’ \n\nHoe wordt jouw bedrijf toekomstbestendig? \n-	Toekomstige teeltsystemen en concepten ervaren op de Boerderij van de Toekomst.\n-	Ga de dialoog aan en vertel wat jouw bedrijf nodig heeft zodat jij kan blijven boeren?\n\nVelddemonstraties robots\n-	Ervaar zelf hoe een tiental veldrobots en data-technologie onkruid bestrijden met zo min mogelijk arbeid en chemie.\n\nMeld je gratis aan! https://www.proeftuinprecisielandbouw.nl/future-farming-food-experience/
LOCATION:Lelystad Edelhertweg 1 8219 PH Lelystad
END:VEVENT
END:VCALENDAR