BEGIN:VCALENDAR
VERSION:2.0
PRODID:-//www.landbouwagenda.nl//Agenda functie
X-WR-CALNAME:KUNSTMESTVERVANGING door SPUILOOG en MINERALENCONCENTRAAT
CALSCALE:GREGORIAN
BEGIN:VTIMEZONE
TZID:Europe/Amsterdam
TZURL:http://tzurl.org/zoneinfo-outlook/Europe/Amsterdam
X-LIC-LOCATION:Europe/Amsterdam
BEGIN:DAYLIGHT
TZOFFSETFROM:+0100
TZOFFSETTO:+0200
TZNAME:CEST
DTSTART:19700329T020000
RRULE:FREQ=YEARLY;BYMONTH=3;BYDAY=-1SU
END:DAYLIGHT
BEGIN:STANDARD
TZOFFSETFROM:+0200
TZOFFSETTO:+0100
TZNAME:CET
DTSTART:19701025T030000
RRULE:FREQ=YEARLY;BYMONTH=10;BYDAY=-1SU
END:STANDARD
END:VTIMEZONE
BEGIN:VEVENT
DTSTAMP:20260424T183805Z
UID:69eb9c6d22271
DTSTART;VALUE=DATE:20220524
DTEND;VALUE=DATE:20220524
SUMMARY:KUNSTMESTVERVANGING door SPUILOOG en MINERALENCONCENTRAAT
URL;VALUE=URI:https://www.landbouwagenda.nl/evenement/5480-kunstmestvervanging-door-spuiloog-en-mineralenconcentraat/
DESCRIPTION:PROFIJT VAN PRECISIE  DEMONSTRATIE CIRCULAIRE PRECISIEBEMESTING\nmet mineralenconcentraat en luchtwasserstikstof in de weidebouw\n 24 mei 2022 13.00 -15.00  KORT MAAR KRACHTIG !\nAanmelden door een email naar : blc@precisiebemester.nl\n\n         Met circulaire precisiebemesting worden veel vliegen in één klap geslagen. Deze werkwijze is landbouwkundig rationeel, milieukundig effectief en bedrijfseconomisch verantwoord. Dat laatste eens te meer nu de kunstmestprijzen zo hoog zijn. Niets staat een snelle adoptie in de weg. De machines, de precisiemeststoffen en de officiële wetenschappelijk gefundeerde doseringsadviezen zijn er. Daarin worden substantieel lagere N-giften aanbevolen zonder verlies aan ha-opbrengsten. Afrekenbare emissiereductie via de mestboekhouding en een verdienmodel.\n\n\nWanneer      Dinsdag  24  mei 2022    13.00-15.00           \nWaar             Boerderij Raaphorst\n                       Raaphorstlaan 18   2245 BG  WASSENAAR\nVoor              Melkveehouders, hun erfbetreders en overige belangstellenden\n                                                   Binnen:  \n * Première INSTRUCTIEFILM “PROFIJT VAN PRECISIE “ van DAW over           \n    KUNSTMESTVERVANGING met spuiloog en mineralenconcentraat in weidebouw  \n1  Minister Staghouwer spreekt in een videoboodschap over \n   " Kringlooplandbouw  met precisie: emissiearm, hoogproductief en afrekenbaar"  \n 2 Effect van spuiloog op kwaliteit en opbrengst van de eerste snede\n 3 Planning bemesting 2e snede op basis van bodemonderzoek N en S.                                               \n                                                   Buiten: \n * Precisiebemester Rijnland * Inline blenden * Snel vers gras analyse met NIR
LOCATION:Boerderij Raaphorst Raaphorstlaan 18 2245 BG Wassenaar
END:VEVENT
END:VCALENDAR