BEGIN:VCALENDAR
VERSION:2.0
PRODID:-//www.landbouwagenda.nl//Agenda functie
X-WR-CALNAME:POC Tour (voor consumptieaardappel telers)
CALSCALE:GREGORIAN
BEGIN:VTIMEZONE
TZID:Europe/Amsterdam
TZURL:http://tzurl.org/zoneinfo-outlook/Europe/Amsterdam
X-LIC-LOCATION:Europe/Amsterdam
BEGIN:DAYLIGHT
TZOFFSETFROM:+0100
TZOFFSETTO:+0200
TZNAME:CEST
DTSTART:19700329T020000
RRULE:FREQ=YEARLY;BYMONTH=3;BYDAY=-1SU
END:DAYLIGHT
BEGIN:STANDARD
TZOFFSETFROM:+0200
TZOFFSETTO:+0100
TZNAME:CET
DTSTART:19701025T030000
RRULE:FREQ=YEARLY;BYMONTH=10;BYDAY=-1SU
END:STANDARD
END:VTIMEZONE
BEGIN:VEVENT
DTSTAMP:20260425T222708Z
UID:69ed239cf2351
DTSTART;VALUE=DATE:20221122
DTEND;VALUE=DATE:20221122
SUMMARY:POC Tour (voor consumptieaardappel telers)
URL;VALUE=URI:https://www.landbouwagenda.nl/evenement/5510-poc-tour-voor-consumptieaardappel-telers/
DESCRIPTION:De POC (Producenten Organisatie Consumptieaardappelen ) Komt naar u toe!\nOngekende EU wetswijziging zorgt ervoor dat Telers zich eindelijk commercieel mogen organiseren, omdat een erkende agrarische producentenorganisatie buiten de kartelwetgeving valt sinds 2018. Het is hierdoor dus eindelijk nuttig om voor de lange termijn een organisatie op te zetten. Laat u inspireren over alle mogelijkheden, en werkwijze van de opbouw tot een professionele producenten organisatie. Van 19.30 tot 22.00.
LOCATION:&#039;t Zand Bestseweg 52 5688 NP Oirschot
END:VEVENT
END:VCALENDAR