BEGIN:VCALENDAR
VERSION:2.0
PRODID:-//www.landbouwagenda.nl//Agenda functie
X-WR-CALNAME:Open dag melkveebedrijf Lübbers
CALSCALE:GREGORIAN
BEGIN:VTIMEZONE
TZID:Europe/Amsterdam
TZURL:http://tzurl.org/zoneinfo-outlook/Europe/Amsterdam
X-LIC-LOCATION:Europe/Amsterdam
BEGIN:DAYLIGHT
TZOFFSETFROM:+0100
TZOFFSETTO:+0200
TZNAME:CEST
DTSTART:19700329T020000
RRULE:FREQ=YEARLY;BYMONTH=3;BYDAY=-1SU
END:DAYLIGHT
BEGIN:STANDARD
TZOFFSETFROM:+0200
TZOFFSETTO:+0100
TZNAME:CET
DTSTART:19701025T030000
RRULE:FREQ=YEARLY;BYMONTH=10;BYDAY=-1SU
END:STANDARD
END:VTIMEZONE
BEGIN:VEVENT
DTSTAMP:20260422T133126Z
UID:69e8b18e61d68
DTSTART;VALUE=DATE:20220604
DTEND;VALUE=DATE:20220604
SUMMARY:Open dag melkveebedrijf Lübbers
URL;VALUE=URI:https://www.landbouwagenda.nl/evenement/5545-open-dag-melkveebedrijf-lubbers/
DESCRIPTION:De familie Lübbers nodigt u van harte uit voor de open dag op zaterdag 4 juni a.s. van 10.00 tot 16.00 uur. In Emmen bouwden zij op een voormalig akkerbouwbedrijf een nieuwe ligboxenstal. Tijdens deze dag kunt u hun bedrijf bezichtigen.\n\nBijzonderheden:\n\nOp een voormalig akkerbouwbedrijf is in 2020 een nieuwe ligboxenstal gebouwd voor 140 stuks melkvee en 80 stuks jongvee.\nDeze Maatlat Duurzame Veehouderij (MDV)-stal is een stal met een lagere milieubelasting en draagt daardoor bij aan de verduurzaming van de veehouderij. Zo heeft de stal een emissiearme vloer (MeadowFloor van Proflex Beton) voor minder uitstoot.\nEr zijn twee melkrobots type Lely Astronaut A5. \nDe indeling van de stal gaat uit van korte looplijnen.\n\nDeelnemende bedrijven:\nAannemersbedrijf Niehof b.v.• Alpuro Breeding • Arts & Dier • Ballast AOG • Bevepro-Comfort • Cow Support Holland • CRV • Eurofins Agro • F.H. Loohuis Daarle B.V. • Flynth Adviseurs en Accountants • Frygon Waterbehandeling BV • Handels- en Loonbedrijf Kuper B.V. • Lely Center Heerenveen • Loon- en Verhuurbedrijf Fuhler B.V. • Mueller B.V. • Poelman v.o.f. Zaagsel en Fouragehandel • Proflex Beton • Rabobank F&A Team Groningen-Drenthe • Snijders Wachtum, dealer ForFarmers • Veehandel M. Mensen • Zuivelcoöperatie FrieslandCampina
LOCATION:Emmen Oosterveldsestraat 173 7826 HD Emmen
END:VEVENT
END:VCALENDAR