BEGIN:VCALENDAR
VERSION:2.0
PRODID:-//www.landbouwagenda.nl//Agenda functie
X-WR-CALNAME:Grote open dag - Melkveebedrijf familie Jochemsen
CALSCALE:GREGORIAN
BEGIN:VTIMEZONE
TZID:Europe/Amsterdam
TZURL:http://tzurl.org/zoneinfo-outlook/Europe/Amsterdam
X-LIC-LOCATION:Europe/Amsterdam
BEGIN:DAYLIGHT
TZOFFSETFROM:+0100
TZOFFSETTO:+0200
TZNAME:CEST
DTSTART:19700329T020000
RRULE:FREQ=YEARLY;BYMONTH=3;BYDAY=-1SU
END:DAYLIGHT
BEGIN:STANDARD
TZOFFSETFROM:+0200
TZOFFSETTO:+0100
TZNAME:CET
DTSTART:19701025T030000
RRULE:FREQ=YEARLY;BYMONTH=10;BYDAY=-1SU
END:STANDARD
END:VTIMEZONE
BEGIN:VEVENT
DTSTAMP:20260422T191051Z
UID:69e9011b47dbc
DTSTART;VALUE=DATE:20220701
DTEND;VALUE=DATE:20220701
SUMMARY:Grote open dag - Melkveebedrijf familie Jochemsen
URL;VALUE=URI:https://www.landbouwagenda.nl/evenement/5600-grote-open-dag-melkveebedrijf-familie-jochemsen/
DESCRIPTION:Ter gelegenheid van de nieuwe melkveestal en de nieuwe manier van melken nodigt de familie Jochemsen je van harte uit op vrijdag 1 juli 2022. Tijdens deze open dag zie je het vernieuwde bedrijf en kun je in gesprek gaan met de familie en hun partners onder het genot van hapjes en drankjes.\n\nExtra informatie:\nStart: 13:00 uur\nEinde: 17:00 uur\n\nDit is er te zien:\n•	Nieuwe melkveestal;\n•	3x Lely Astronaut A5's i.c.m. weidegang;\n•	Lely Juno automatische voeraanschuifrobot;\n•	Lely Discovery mestrobot;\n•	Demomodel Lely Sphere circulair mestverwaardingssysteem;\n•	HCI Easyfix-vloer;\n•	Diepstrooiselboxen;\n•	En meer...\n\nPartners: \nAgruniekRijnvallei\nE.J. van Ginkelbouw\nDe Nijborg Agri b.v.\nRabobank    \nBoon Agrosystems\nLoon- en grondverzetbedrijf Nap v.o.f.\nAlfa Accoutants en Adviseurs\nHCI Betonindustrie \nVan Westreenen \nBrunekreef Techniek\nDap V.U.G.\nMueller    \nKI de Vallei    \nSubvention  \n\n\nGRATIS toegang / GRATIS parkeren.\n\nZet vrijdag 1 juli 2022 in je agenda!\n\nKijk voor meer informatie op de website
LOCATION:Melkveebedrijf familie Jochemsen Langesteeg 18 6721 NC Bennekom
END:VEVENT
END:VCALENDAR