BEGIN:VCALENDAR
VERSION:2.0
PRODID:-//www.landbouwagenda.nl//Agenda functie
X-WR-CALNAME:Het Klimaat de Baas
CALSCALE:GREGORIAN
BEGIN:VTIMEZONE
TZID:Europe/Amsterdam
TZURL:http://tzurl.org/zoneinfo-outlook/Europe/Amsterdam
X-LIC-LOCATION:Europe/Amsterdam
BEGIN:DAYLIGHT
TZOFFSETFROM:+0100
TZOFFSETTO:+0200
TZNAME:CEST
DTSTART:19700329T020000
RRULE:FREQ=YEARLY;BYMONTH=3;BYDAY=-1SU
END:DAYLIGHT
BEGIN:STANDARD
TZOFFSETFROM:+0200
TZOFFSETTO:+0100
TZNAME:CET
DTSTART:19701025T030000
RRULE:FREQ=YEARLY;BYMONTH=10;BYDAY=-1SU
END:STANDARD
END:VTIMEZONE
BEGIN:VEVENT
DTSTAMP:20260422T165213Z
UID:69e8e09debfaf
DTSTART;VALUE=DATE:20221115
DTEND;VALUE=DATE:20221115
SUMMARY:Het Klimaat de Baas
URL;VALUE=URI:https://www.landbouwagenda.nl/evenement/5803-het-klimaat-de-baas/
DESCRIPTION:Deze kennismiddag gaat in op hoe de akkerbouw kan inspelen op klimaatverandering. Inzichten vanuit de PPS Klimaatadaptatie Open Teelten worden gecombineerd met ervaringen uit andere projecten. In de workshops is volop ruimte voor interactie en kennisdeling. Het event is gratis. Aanmelden voor dit evenement is op dit moment nog niet mogelijk.
LOCATION:Boerderij De Boerinn Mijzijde 6 3471 GM Kamerik
END:VEVENT
END:VCALENDAR