BEGIN:VCALENDAR
VERSION:2.0
PRODID:-//www.landbouwagenda.nl//Agenda functie
X-WR-CALNAME:Najaarsbijeenkomst Agrifirm
CALSCALE:GREGORIAN
BEGIN:VTIMEZONE
TZID:Europe/Amsterdam
TZURL:http://tzurl.org/zoneinfo-outlook/Europe/Amsterdam
X-LIC-LOCATION:Europe/Amsterdam
BEGIN:DAYLIGHT
TZOFFSETFROM:+0100
TZOFFSETTO:+0200
TZNAME:CEST
DTSTART:19700329T020000
RRULE:FREQ=YEARLY;BYMONTH=3;BYDAY=-1SU
END:DAYLIGHT
BEGIN:STANDARD
TZOFFSETFROM:+0200
TZOFFSETTO:+0100
TZNAME:CET
DTSTART:19701025T030000
RRULE:FREQ=YEARLY;BYMONTH=10;BYDAY=-1SU
END:STANDARD
END:VTIMEZONE
BEGIN:VEVENT
DTSTAMP:20260421T133035Z
UID:69e75fdbca601
DTSTART;VALUE=DATE:20221116
DTEND;VALUE=DATE:20221116
SUMMARY:Najaarsbijeenkomst Agrifirm
URL;VALUE=URI:https://www.landbouwagenda.nl/evenement/5860-najaarsbijeenkomst-agrifirm/
DESCRIPTION:Wij heten u van harte welkom op één van onze najaarsbijeenkomsten om bij te praten over de ontwikkelingen in de markt.\nOnderwerpen zijn: \n- GLB en Nitraatrichtlijnen\n- Biostimulanten en plantversterkers\n- Bemestingsproeven
LOCATION:Van der Valk Leeuwarden Lynbaan 35 8941 BR Leeuwarden
END:VEVENT
END:VCALENDAR