BEGIN:VCALENDAR
VERSION:2.0
PRODID:-//www.landbouwagenda.nl//Agenda functie
X-WR-CALNAME:Open dagen KI Kampen
CALSCALE:GREGORIAN
BEGIN:VTIMEZONE
TZID:Europe/Amsterdam
TZURL:http://tzurl.org/zoneinfo-outlook/Europe/Amsterdam
X-LIC-LOCATION:Europe/Amsterdam
BEGIN:DAYLIGHT
TZOFFSETFROM:+0100
TZOFFSETTO:+0200
TZNAME:CEST
DTSTART:19700329T020000
RRULE:FREQ=YEARLY;BYMONTH=3;BYDAY=-1SU
END:DAYLIGHT
BEGIN:STANDARD
TZOFFSETFROM:+0200
TZOFFSETTO:+0100
TZNAME:CET
DTSTART:19701025T030000
RRULE:FREQ=YEARLY;BYMONTH=10;BYDAY=-1SU
END:STANDARD
END:VTIMEZONE
BEGIN:VEVENT
DTSTAMP:20260419T194338Z
UID:69e5144a6689a
DTSTART;VALUE=DATE:20220928
DTEND;VALUE=DATE:20220929
SUMMARY:Open dagen KI Kampen
URL;VALUE=URI:https://www.landbouwagenda.nl/evenement/5880-open-dagen-ki-kampen/
DESCRIPTION:OPEN DAGEN K.I. KAMPEN\n \nWanneer: \n28 september -13:00-22:00 u \n29 september -10:00-16:00 u\n\nActiviteiten:\n*Dochtergroepen van diverse stieren\n*Uitleg KIK stieradvies\n*Presentatie ruim 40 jaar K.I. Kampen\n*Prijsvraag met vele mooie prijzen\n\n"Bent u ook benieuwd naar de dochters van Weinterper Solution? "\n\n"Het belooft weer een gezellige drukke beurs te worden"\n\nEr is een vakbeurs met diverse interessante standhouders:\nVan der Sluis Agri, ABN Amro, DSV zaden, Fuite veevoeders, UNIFORM-Agri, Deutz-Fahr, Spinder, Zonna Beilen (Strautmann), Kuhn, Hanskamp, Agrilite, DeLaval, aAa Weeks, Bajo Bouw, Quotamel, Green Dutch, de FH vereniging, Kok FD\n\nVoor meer informatie: houd de gebruikelijke kanalen van K.I. Kampen in de gaten.
LOCATION:Van der Sluis Agri Kamperzeedijk 107 8281 PD Genemuiden
END:VEVENT
END:VCALENDAR