BEGIN:VCALENDAR
VERSION:2.0
PRODID:-//www.landbouwagenda.nl//Agenda functie
X-WR-CALNAME:HZPC Teler Informatiebijeenkomst - TIB (pootgoedtelers)
CALSCALE:GREGORIAN
BEGIN:VTIMEZONE
TZID:Europe/Amsterdam
TZURL:http://tzurl.org/zoneinfo-outlook/Europe/Amsterdam
X-LIC-LOCATION:Europe/Amsterdam
BEGIN:DAYLIGHT
TZOFFSETFROM:+0100
TZOFFSETTO:+0200
TZNAME:CEST
DTSTART:19700329T020000
RRULE:FREQ=YEARLY;BYMONTH=3;BYDAY=-1SU
END:DAYLIGHT
BEGIN:STANDARD
TZOFFSETFROM:+0200
TZOFFSETTO:+0100
TZNAME:CET
DTSTART:19701025T030000
RRULE:FREQ=YEARLY;BYMONTH=10;BYDAY=-1SU
END:STANDARD
END:VTIMEZONE
BEGIN:VEVENT
DTSTAMP:20260421T161141Z
UID:69e7859d9a176
DTSTART;VALUE=DATE:20221130
DTEND;VALUE=DATE:20221130
SUMMARY:HZPC Teler Informatiebijeenkomst - TIB (pootgoedtelers)
URL;VALUE=URI:https://www.landbouwagenda.nl/evenement/5898-hzpc-teler-informatiebijeenkomst-tib-pootgoedtelers/
DESCRIPTION:Deze bijeenkomst wordt georganiseerd voor uitsluitend bij HZPC aangesloten pootgoedtelers. \nGebied: J. van Meel\nAanvang 19:30 uur
LOCATION:Restaurant &#039;De Goede Aanloop&#039; St. Hubertus-plaats 8 8309 AB Tollebeek
END:VEVENT
END:VCALENDAR