BEGIN:VCALENDAR
VERSION:2.0
PRODID:-//www.landbouwagenda.nl//Agenda functie
X-WR-CALNAME:ForFarmers Regiotap
CALSCALE:GREGORIAN
BEGIN:VTIMEZONE
TZID:Europe/Amsterdam
TZURL:http://tzurl.org/zoneinfo-outlook/Europe/Amsterdam
X-LIC-LOCATION:Europe/Amsterdam
BEGIN:DAYLIGHT
TZOFFSETFROM:+0100
TZOFFSETTO:+0200
TZNAME:CEST
DTSTART:19700329T020000
RRULE:FREQ=YEARLY;BYMONTH=3;BYDAY=-1SU
END:DAYLIGHT
BEGIN:STANDARD
TZOFFSETFROM:+0200
TZOFFSETTO:+0100
TZNAME:CET
DTSTART:19701025T030000
RRULE:FREQ=YEARLY;BYMONTH=10;BYDAY=-1SU
END:STANDARD
END:VTIMEZONE
BEGIN:VEVENT
DTSTAMP:20260425T204843Z
UID:69ed0c8b44ecf
DTSTART;VALUE=DATE:20221201
DTEND;VALUE=DATE:20221201
SUMMARY:ForFarmers Regiotap
URL;VALUE=URI:https://www.landbouwagenda.nl/evenement/5911-forfarmers-regiotap/
DESCRIPTION:Tijdens de Regiotaps praten wij melkveehouders tijdens een informele setting bij over actualiteiten.
LOCATION: O.L. Vrouwestraat 2 7497 MA Bentelo
END:VEVENT
END:VCALENDAR