BEGIN:VCALENDAR
VERSION:2.0
PRODID:-//www.landbouwagenda.nl//Agenda functie
X-WR-CALNAME:Varkensschool Basis Cursus Zeugenhouderij
CALSCALE:GREGORIAN
BEGIN:VTIMEZONE
TZID:Europe/Amsterdam
TZURL:http://tzurl.org/zoneinfo-outlook/Europe/Amsterdam
X-LIC-LOCATION:Europe/Amsterdam
BEGIN:DAYLIGHT
TZOFFSETFROM:+0100
TZOFFSETTO:+0200
TZNAME:CEST
DTSTART:19700329T020000
RRULE:FREQ=YEARLY;BYMONTH=3;BYDAY=-1SU
END:DAYLIGHT
BEGIN:STANDARD
TZOFFSETFROM:+0200
TZOFFSETTO:+0100
TZNAME:CET
DTSTART:19701025T030000
RRULE:FREQ=YEARLY;BYMONTH=10;BYDAY=-1SU
END:STANDARD
END:VTIMEZONE
BEGIN:VEVENT
DTSTAMP:20260421T011638Z
UID:69e6b3d615d5a
DTSTART;VALUE=DATE:20230403
DTEND;VALUE=DATE:20230403
SUMMARY:Varkensschool Basis Cursus Zeugenhouderij
URL;VALUE=URI:https://www.landbouwagenda.nl/evenement/6228-varkensschool-basis-cursus-zeugenhouderij/
DESCRIPTION:Basiscursus zeugenhouderij\nIn de varkenshouderij zien we op steeds meer plaatsen personeel instromen dat geen of slechts een beperkte agrarische achtergrond heeft. Hiervoor hebben wij een basiscursus zeugenhouderij ontwikkeld.\n\nVoor wie\nMedewerkers of familieleden met weinig of geen “varkens” ervaring en medewerkers met iets meer ervaring die graag een update willen van voor hen belangrijke onderwerpen.\n\nDoel van deze cursus\nHet bijbrengen of updaten van de basisbeginselen in de zeugenhouderij.\nAansluitend aan de 2e cursus dag, heeft men de optie om voor een meerprijs de cursus zelf vaccinerende varkenshouder te volgen.
LOCATION:Rotink Lichtenvoordsestraatweg 69 7121 RC Aalten
END:VEVENT
END:VCALENDAR