BEGIN:VCALENDAR
VERSION:2.0
PRODID:-//www.landbouwagenda.nl//Agenda functie
X-WR-CALNAME:Velddag HZPC Holland B.V. (gebied Friesland)
CALSCALE:GREGORIAN
BEGIN:VTIMEZONE
TZID:Europe/Amsterdam
TZURL:http://tzurl.org/zoneinfo-outlook/Europe/Amsterdam
X-LIC-LOCATION:Europe/Amsterdam
BEGIN:DAYLIGHT
TZOFFSETFROM:+0100
TZOFFSETTO:+0200
TZNAME:CEST
DTSTART:19700329T020000
RRULE:FREQ=YEARLY;BYMONTH=3;BYDAY=-1SU
END:DAYLIGHT
BEGIN:STANDARD
TZOFFSETFROM:+0200
TZOFFSETTO:+0100
TZNAME:CET
DTSTART:19701025T030000
RRULE:FREQ=YEARLY;BYMONTH=10;BYDAY=-1SU
END:STANDARD
END:VTIMEZONE
BEGIN:VEVENT
DTSTAMP:20260426T023055Z
UID:69ed5cbf1868b
DTSTART;VALUE=DATE:20230711
DTEND;VALUE=DATE:20230711
SUMMARY:Velddag HZPC Holland B.V. (gebied Friesland)
URL;VALUE=URI:https://www.landbouwagenda.nl/evenement/6276-velddag-hzpc-holland-b.v-gebied-friesland/
DESCRIPTION:De bij HZPC aangesloten pootgoedtelers uit de gebieden van de buitendienstmedewerkers Franzen en Weidenaar zijn van harte welkom op deze Velddag.
LOCATION:Maatschap Palsma Oudebildtdijk 319 9076 GG St. Annaparochie
END:VEVENT
END:VCALENDAR