BEGIN:VCALENDAR
VERSION:2.0
PRODID:-//www.landbouwagenda.nl//Agenda functie
X-WR-CALNAME:Open Dag CZAV/Rusthoeve 2023
CALSCALE:GREGORIAN
BEGIN:VTIMEZONE
TZID:Europe/Amsterdam
TZURL:http://tzurl.org/zoneinfo-outlook/Europe/Amsterdam
X-LIC-LOCATION:Europe/Amsterdam
BEGIN:DAYLIGHT
TZOFFSETFROM:+0100
TZOFFSETTO:+0200
TZNAME:CEST
DTSTART:19700329T020000
RRULE:FREQ=YEARLY;BYMONTH=3;BYDAY=-1SU
END:DAYLIGHT
BEGIN:STANDARD
TZOFFSETFROM:+0200
TZOFFSETTO:+0100
TZNAME:CET
DTSTART:19701025T030000
RRULE:FREQ=YEARLY;BYMONTH=10;BYDAY=-1SU
END:STANDARD
END:VTIMEZONE
BEGIN:VEVENT
DTSTAMP:20260419T235826Z
UID:69e5500202142
DTSTART;VALUE=DATE:20230621
DTEND;VALUE=DATE:20230621
SUMMARY:Open Dag CZAV/Rusthoeve 2023
URL;VALUE=URI:https://www.landbouwagenda.nl/evenement/6327-open-dag-czav-rusthoeve-2023/
DESCRIPTION:De Open Dag van CZAV en Proefboerderij Rusthoeve vindt jaarlijks op de derde woensdag van juni plaats. Ook dit keer verwelkomen we je graag op onze Open Dag CZAV/Rusthoeve 2023 met als thema ‘Teelt in transitie’. Je bent van harte welkom op 21 juni tussen 9.00 en 19.00 uur in Colijnsplaat. \n\nRondgangen:\nDe Open Dag is de perfecte kans om kennis op te doen over een bepaald gewas. Volg een rondgang die jij interessant vindt en krijg antwoord op jouw vragen. In totaal zijn er 10 verschillende rondgangen: aardappelen, graan, pootgoed, uien, suikerbieten en graszaad. Verder ligt er een Ruwvoerdemo en een themaplein ‘Bodem’. Ook kun je een rondleiding volgen in de Biobased Innovation Garden of neem een kijkje bij het strokenteeltproject.\n\nLicentieverlengingen: \nOp de Open Dag CZAV/Rusthoeve heb je de mogelijkheid om je licentie te verlengen voor het onderdeel ‘Teelt’ en ‘Veiligheid & Techniek’. Mis je nog een bijeenkomst? Volg er dan een op de Open Dag. Zo sla je twee vliegen in een klap, want je kunt ook direct een rondgang volgen en je vragen stellen aan onze adviseurs.
LOCATION:Proefboerderij Rusthoeve Noordlangeweg 42 4486 PR Colijnsplaat
END:VEVENT
END:VCALENDAR