BEGIN:VCALENDAR
VERSION:2.0
PRODID:-//www.landbouwagenda.nl//Agenda functie
X-WR-CALNAME:Van Iperen - Proef de dag in de regio Zeeuws Vlaanderen
CALSCALE:GREGORIAN
BEGIN:VTIMEZONE
TZID:Europe/Amsterdam
TZURL:http://tzurl.org/zoneinfo-outlook/Europe/Amsterdam
X-LIC-LOCATION:Europe/Amsterdam
BEGIN:DAYLIGHT
TZOFFSETFROM:+0100
TZOFFSETTO:+0200
TZNAME:CEST
DTSTART:19700329T020000
RRULE:FREQ=YEARLY;BYMONTH=3;BYDAY=-1SU
END:DAYLIGHT
BEGIN:STANDARD
TZOFFSETFROM:+0200
TZOFFSETTO:+0100
TZNAME:CET
DTSTART:19701025T030000
RRULE:FREQ=YEARLY;BYMONTH=10;BYDAY=-1SU
END:STANDARD
END:VTIMEZONE
BEGIN:VEVENT
DTSTAMP:20260421T105136Z
UID:69e73a98c9448
DTSTART;VALUE=DATE:20230616
DTEND;VALUE=DATE:20230616
SUMMARY:Van Iperen - Proef de dag in de regio Zeeuws Vlaanderen
URL;VALUE=URI:https://www.landbouwagenda.nl/evenement/6429-proef-de-dag-in-de-regio-zeeuws-vlaanderen/
DESCRIPTION:-
LOCATION:M.Z. en A.J. Salomé, Middenweg 4 4515 MA IJzendijke
END:VEVENT
END:VCALENDAR