BEGIN:VCALENDAR
VERSION:2.0
PRODID:-//www.landbouwagenda.nl//Agenda functie
X-WR-CALNAME:Masterclass Spuitlicentie &quot;Meer techniek, minder GBM&quot;
CALSCALE:GREGORIAN
BEGIN:VTIMEZONE
TZID:Europe/Amsterdam
TZURL:http://tzurl.org/zoneinfo-outlook/Europe/Amsterdam
X-LIC-LOCATION:Europe/Amsterdam
BEGIN:DAYLIGHT
TZOFFSETFROM:+0100
TZOFFSETTO:+0200
TZNAME:CEST
DTSTART:19700329T020000
RRULE:FREQ=YEARLY;BYMONTH=3;BYDAY=-1SU
END:DAYLIGHT
BEGIN:STANDARD
TZOFFSETFROM:+0200
TZOFFSETTO:+0100
TZNAME:CET
DTSTART:19701025T030000
RRULE:FREQ=YEARLY;BYMONTH=10;BYDAY=-1SU
END:STANDARD
END:VTIMEZONE
BEGIN:VEVENT
DTSTAMP:20260423T103730Z
UID:69e9da4b02c65
DTSTART;VALUE=DATE:20230321
DTEND;VALUE=DATE:20230321
SUMMARY:Masterclass Spuitlicentie &quot;Meer techniek, minder GBM&quot;
URL;VALUE=URI:https://www.landbouwagenda.nl/evenement/6438-masterclass-spuitlicentie-meer-techniek-minder-gbm/
DESCRIPTION:Deze spuitlicentiebijeenkomsten zijn speciaal ontwikkeld voor leden/afnemers van Agrifirm en hun loonwerkers, die op de hoogte willen blijven van de laatste ontwikkelingen op het gebied van de duurzame ruwvoerteelt. Een weerbare bodem en gezonde gewassen zijn van cruciaal belang voor de beste opbrengst.\n\nDeze bijeenkomsten zijn onderdeel van de module “Veiligheid en techniek” en staan in het teken van het veilig en verantwoord toepassen van gewasbeschermingsmiddelen. Naast de actualiteiten die gelden voor de teelt van ruwvoedergewassen gaan we in deze masterclass specifiek in op de arbeids- en milieu veiligheid en technische aspecten die op het rundveebedrijf samenhangen met de bestrijding van plagen, onkruiden en ziektes. \n\nDeze masterclass telt mee voor het verlengen van jouw spuitlicentie op het onderdeel ‘Veiligheid en techniek’. De administratieve kosten zijn hiervoor € 45,- (ex. BTW). Wij vragen je ruim op tijd aanwezig te zijn in verband met de registratie.\n\nBureau Erkenningen hanteert een maximum aantal deelnemers van 30 personen per bijeenkomst. Om teleurstelling te voorkomen is het dus noodzakelijk om je aan te melden. Dit kan heel eenvoudig via de aanmeldknop.
LOCATION:De Poppe, Markelo Holterweg 23 7475 AT Markelo
END:VEVENT
END:VCALENDAR