BEGIN:VCALENDAR
VERSION:2.0
PRODID:-//www.landbouwagenda.nl//Agenda functie
X-WR-CALNAME:Bodempodcast praktijkmiddag
CALSCALE:GREGORIAN
BEGIN:VTIMEZONE
TZID:Europe/Amsterdam
TZURL:http://tzurl.org/zoneinfo-outlook/Europe/Amsterdam
X-LIC-LOCATION:Europe/Amsterdam
BEGIN:DAYLIGHT
TZOFFSETFROM:+0100
TZOFFSETTO:+0200
TZNAME:CEST
DTSTART:19700329T020000
RRULE:FREQ=YEARLY;BYMONTH=3;BYDAY=-1SU
END:DAYLIGHT
BEGIN:STANDARD
TZOFFSETFROM:+0200
TZOFFSETTO:+0100
TZNAME:CET
DTSTART:19701025T030000
RRULE:FREQ=YEARLY;BYMONTH=10;BYDAY=-1SU
END:STANDARD
END:VTIMEZONE
BEGIN:VEVENT
DTSTAMP:20260419T195124Z
UID:69e5161ca37de
DTSTART;VALUE=DATE:20230329
DTEND;VALUE=DATE:20230329
SUMMARY:Bodempodcast praktijkmiddag
URL;VALUE=URI:https://www.landbouwagenda.nl/evenement/6468-bodempodcast-praktijkmiddag/
DESCRIPTION:In de Bodempodcast hebben we al veel gehoord over bodemkwaliteit en bodembeheer. Nu wordt het eens tijd om het ook in het veld te bekijken!\n\nDaarom nodigen we je van harte uit voor de Bodempodcast praktijkmiddag op 29 maart, dit maal met de focus op de akkerbouw.\n\nTijdens deze middag hebben we twee bodemkundige te gast: Anna Zwijnenburg (van Kavel naar Tafel) en Leen Janmaat (Louis Bolk Instituut). Zij zullen je tijdens de bijeenkomst praktische handvatten geven om met je bodemkwaliteit aan de slag te gaan in het voorjaar. Daarnaast gaan we ook het veld in om samen de bodemkwaliteit te (leren) beoordelen. Ook is er ruimte voor vragen aan de experts. Deelname aan de middag is kosteloos, maar er let op: er is beperkt plek!\n\nWanneer: Woensdagmiddag 29 maart vanaf 14:15 tot 16:50.\nWaar: Akkerbouwbedrijf Dingeman Burgers – Bloemendaalse Zeedijk 41, 4765 TB, Zevenbergschen Hoek.\n\nProgramma:\nVanaf 14:15 uur inloop met koffie. Start programma om 14:30.\n14:30 Start en welkomstwoord\n– Presentatie: bodembeheer in het voorjaar – winst en aandachtspunten\n– Vragen en stellingen\n– Veldbezoek: profielkuilen graven en bodem leren beoordelen\n16:50 Vragen en afsluiting\n\nAls onderdeel van het programma gaan we ook het veld in dus zorg voor stevige schoenen/ laarzen en warme kleding. Tijdens deze praktijkmiddag worden er video-opnames gemaakt.
LOCATION:Akkerbouwbedrijf Dingeman Burgers Bloemendaalse Zeedijk 41 4765 TB Zevenbergschen Hoek
END:VEVENT
END:VCALENDAR