BEGIN:VCALENDAR
VERSION:2.0
PRODID:-//www.landbouwagenda.nl//Agenda functie
X-WR-CALNAME:Zoetwaterboeren
CALSCALE:GREGORIAN
BEGIN:VTIMEZONE
TZID:Europe/Amsterdam
TZURL:http://tzurl.org/zoneinfo-outlook/Europe/Amsterdam
X-LIC-LOCATION:Europe/Amsterdam
BEGIN:DAYLIGHT
TZOFFSETFROM:+0100
TZOFFSETTO:+0200
TZNAME:CEST
DTSTART:19700329T020000
RRULE:FREQ=YEARLY;BYMONTH=3;BYDAY=-1SU
END:DAYLIGHT
BEGIN:STANDARD
TZOFFSETFROM:+0200
TZOFFSETTO:+0100
TZNAME:CET
DTSTART:19701025T030000
RRULE:FREQ=YEARLY;BYMONTH=10;BYDAY=-1SU
END:STANDARD
END:VTIMEZONE
BEGIN:VEVENT
DTSTAMP:20260422T161755Z
UID:69e8d89399a23
DTSTART;VALUE=DATE:20230622
DTEND;VALUE=DATE:20230622
SUMMARY:Zoetwaterboeren
URL;VALUE=URI:https://www.landbouwagenda.nl/evenement/6501-zoetwaterboeren/
DESCRIPTION:De eerste resultaten van het project Zoetwaterboeren worden gepresenteerd aan de hand van workshops en een veldbezoek.
LOCATION:Hoeve Lotmeer Lotweg 26 1761 JG Anna Paulowna
END:VEVENT
END:VCALENDAR