BEGIN:VCALENDAR
VERSION:2.0
PRODID:-//www.landbouwagenda.nl//Agenda functie
X-WR-CALNAME:Akkerbouwdag
CALSCALE:GREGORIAN
BEGIN:VTIMEZONE
TZID:Europe/Amsterdam
TZURL:http://tzurl.org/zoneinfo-outlook/Europe/Amsterdam
X-LIC-LOCATION:Europe/Amsterdam
BEGIN:DAYLIGHT
TZOFFSETFROM:+0100
TZOFFSETTO:+0200
TZNAME:CEST
DTSTART:19700329T020000
RRULE:FREQ=YEARLY;BYMONTH=3;BYDAY=-1SU
END:DAYLIGHT
BEGIN:STANDARD
TZOFFSETFROM:+0200
TZOFFSETTO:+0100
TZNAME:CET
DTSTART:19701025T030000
RRULE:FREQ=YEARLY;BYMONTH=10;BYDAY=-1SU
END:STANDARD
END:VTIMEZONE
BEGIN:VEVENT
DTSTAMP:20260420T204343Z
UID:69e673dfb61af
DTSTART;VALUE=DATE:20230713
DTEND;VALUE=DATE:20230713
SUMMARY:Akkerbouwdag
URL;VALUE=URI:https://www.landbouwagenda.nl/evenement/6553-akkerbouwdag/
DESCRIPTION:Op 13 juli 2023 van 10.00 uur t/m 16.00 uur ben je van harte welkom op de Akkerbouwdag op Aeres Farms in Dronten. Bezoek de productbeurs, sluit aan bij praktische workshops en bekijk de nieuwste machines tijdens meerdere demonstraties.
LOCATION:Aeres Farms Wisentweg 13 8251 PB Dronten
END:VEVENT
END:VCALENDAR