BEGIN:VCALENDAR
VERSION:2.0
PRODID:-//www.landbouwagenda.nl//Agenda functie
X-WR-CALNAME:Open dag H. van Oosten
CALSCALE:GREGORIAN
BEGIN:VTIMEZONE
TZID:Europe/Amsterdam
TZURL:http://tzurl.org/zoneinfo-outlook/Europe/Amsterdam
X-LIC-LOCATION:Europe/Amsterdam
BEGIN:DAYLIGHT
TZOFFSETFROM:+0100
TZOFFSETTO:+0200
TZNAME:CEST
DTSTART:19700329T020000
RRULE:FREQ=YEARLY;BYMONTH=3;BYDAY=-1SU
END:DAYLIGHT
BEGIN:STANDARD
TZOFFSETFROM:+0200
TZOFFSETTO:+0100
TZNAME:CET
DTSTART:19701025T030000
RRULE:FREQ=YEARLY;BYMONTH=10;BYDAY=-1SU
END:STANDARD
END:VTIMEZONE
BEGIN:VEVENT
DTSTAMP:20260422T012256Z
UID:69e806d0f3bf7
DTSTART;VALUE=DATE:20230624
DTEND;VALUE=DATE:20230624
SUMMARY:Open dag H. van Oosten
URL;VALUE=URI:https://www.landbouwagenda.nl/evenement/6601-open-dag-h.-van-oosten/
DESCRIPTION:45-jarig jubileum H. van Oosten\n\n1978 - OPRICHTEN VAN HET LOONBEDRIJF\nHenk van Oosten runde samen met zijn ouders en broer een melkvee- en varkensbedrijf in Muntendam. De familie wilde graag uitbreiden en zo besloot Henk te beginnen met het reinigen van sloten bij agrariërs, dus werd in 1978 de eerste stap gezet voor het oprichten van een loonbedrijf.\n\nHeden - HUIDIGE SITUATIE\nBinnen H. van Oosten Loon- & Grondverzetbedrijf is agrarisch loonwerk en grondverzet nog steeds de belangrijkste activiteit van het bedrijf. Onder H. van Oosten Intermediair & Logistiek B.V. valt de mestdistributie.\n\nDaarnaast hebben we H. van Oosten Akkerbouw B.V. opgericht, vanuit hier worden alle akkerbouwwerkzaamheden gedaan en hier valt ons eigen landbouwgrond onder.\n\nIn het bedrijf werken in totaal 20 medewerkers, waarvan 5 mensen werkzaam zijn op het kantoor, 7 medewerkers in het loonwerk waarvan 2 gedetacheerd zijn aan de biogas installatie in Veendam en 8 vrachtwagenchauffeurs. In het seizoen word dit aangevuld door diverse ZZP-ers.\n\nOpen dag: 10.00-17.00 uur
LOCATION:Loonbedrijf H. van Oosten Duurkenakker 25 9651 DB Meeden
END:VEVENT
END:VCALENDAR