BEGIN:VCALENDAR
VERSION:2.0
PRODID:-//www.landbouwagenda.nl//Agenda functie
X-WR-CALNAME:Open dag Spinder
CALSCALE:GREGORIAN
BEGIN:VTIMEZONE
TZID:Europe/Amsterdam
TZURL:http://tzurl.org/zoneinfo-outlook/Europe/Amsterdam
X-LIC-LOCATION:Europe/Amsterdam
BEGIN:DAYLIGHT
TZOFFSETFROM:+0100
TZOFFSETTO:+0200
TZNAME:CEST
DTSTART:19700329T020000
RRULE:FREQ=YEARLY;BYMONTH=3;BYDAY=-1SU
END:DAYLIGHT
BEGIN:STANDARD
TZOFFSETFROM:+0200
TZOFFSETTO:+0100
TZNAME:CET
DTSTART:19701025T030000
RRULE:FREQ=YEARLY;BYMONTH=10;BYDAY=-1SU
END:STANDARD
END:VTIMEZONE
BEGIN:VEVENT
DTSTAMP:20260424T135345Z
UID:69eb59c9bf0e6
DTSTART;VALUE=DATE:20230617
DTEND;VALUE=DATE:20230617
SUMMARY:Open dag Spinder
URL;VALUE=URI:https://www.landbouwagenda.nl/evenement/6611-open-dag-spinder/
DESCRIPTION:Open dag\n\nIn 2023 viert Spinder haar 50-jarig jubileum. Het bedrijf, opgericht in het tijdperk van de opkomst van de ligboxenstal, is inmiddels uitgegroeid tot een toonaangevende leverancier van stalinrichting voor de moderne melkveehouderij.\n\nOp 17 juni 2023 wordt er een open dag georganiseerd op onze nieuwe locatie in Drachten. Hier kunt u een kijkje nemen in onze moderne fabriek. We kijken er naar uit om klanten en\ngeïnteresseerden te laten zien waar Spinder voor staat; innovatie, kwaliteit en betrouwbaarheid.\n\nTijd: 10.00 - 15.00 uur
LOCATION:Spinder Zeppelinlaan 3 9207 JG Drachten
END:VEVENT
END:VCALENDAR