BEGIN:VCALENDAR
VERSION:2.0
PRODID:-//www.landbouwagenda.nl//Agenda functie
X-WR-CALNAME:Webinar hoofdpunten biologische regelgeving voor tuin- en akkerbouw
CALSCALE:GREGORIAN
BEGIN:VTIMEZONE
TZID:Europe/Amsterdam
TZURL:http://tzurl.org/zoneinfo-outlook/Europe/Amsterdam
X-LIC-LOCATION:Europe/Amsterdam
BEGIN:DAYLIGHT
TZOFFSETFROM:+0100
TZOFFSETTO:+0200
TZNAME:CEST
DTSTART:19700329T020000
RRULE:FREQ=YEARLY;BYMONTH=3;BYDAY=-1SU
END:DAYLIGHT
BEGIN:STANDARD
TZOFFSETFROM:+0200
TZOFFSETTO:+0100
TZNAME:CET
DTSTART:19701025T030000
RRULE:FREQ=YEARLY;BYMONTH=10;BYDAY=-1SU
END:STANDARD
END:VTIMEZONE
BEGIN:VEVENT
DTSTAMP:20260420T091616Z
UID:69e5d2c054c4e
DTSTART;VALUE=DATE:20231010
DTEND;VALUE=DATE:20231010
SUMMARY:Webinar hoofdpunten biologische regelgeving voor tuin- en akkerbouw
URL;VALUE=URI:https://www.landbouwagenda.nl/evenement/6733-webinar-hoofdpunten-biologische-regelgeving-voor-tuin--en-akkerbouw/
DESCRIPTION:Heb je een bedrijf waar je fruit, groente, granen, bomen of bloemen teelt en vraag je je af of biologische landbouw iets voor je is? Of werk je bij een biologisch teeltbedrijf? Wil je meer weten over de eisen uit de biologische regelgeving voor bedrijven in de plantaardige sectoren? Dan is dit webinar interessant voor jou!\n\nTijdens dit webinar vertel ik je meer over de belangrijkste punten uit de biologische regelgeving voor landbouwbedrijven, en dan specifiek voor bedrijven in de plantaardige sector. Dit geeft je een idee van de belangrijkste eisen vanuit de biologische regelgeving, en hoe een bedrijf gecertificeerd kan worden.\n\nTijdens het webinar worden de volgende onderwerpen behandeld:\n\nRegelgeving (EU & NL)\nCertificering\nEisen voor teelt van gewassen\nAdministratie\nBedrijfsbeschrijving en risicobeheersplan\nEisen voor verwerkte producten\nAls er specifieke vragen zijn dan kan je dat van tevoren aan mij doorgeven, dan probeer ik deze vragen te beantwoorden tijdens het webinar. Tijdens het webinar kunnen er vragen worden gesteld via de chat, na elk onderwerp zal ik vragen beantwoorden.\n\nNa aanmelding ontvang je van mij een link om de presentatie te kunnen volgen. Na afloop van het webinar ontvang je de presentatie in pdf-formaat via e-mail.\n\nHeb je nog vragen over dit webinar? Neem contact op met Berdi Doornebosch via berdi@doornebosch.info of 06-36098868
LOCATION:Online Vogelslag 71 7423CB Deventer
END:VEVENT
END:VCALENDAR