BEGIN:VCALENDAR
VERSION:2.0
PRODID:-//www.landbouwagenda.nl//Agenda functie
X-WR-CALNAME:Maisdemodag
CALSCALE:GREGORIAN
BEGIN:VTIMEZONE
TZID:Europe/Amsterdam
TZURL:http://tzurl.org/zoneinfo-outlook/Europe/Amsterdam
X-LIC-LOCATION:Europe/Amsterdam
BEGIN:DAYLIGHT
TZOFFSETFROM:+0100
TZOFFSETTO:+0200
TZNAME:CEST
DTSTART:19700329T020000
RRULE:FREQ=YEARLY;BYMONTH=3;BYDAY=-1SU
END:DAYLIGHT
BEGIN:STANDARD
TZOFFSETFROM:+0200
TZOFFSETTO:+0100
TZNAME:CET
DTSTART:19701025T030000
RRULE:FREQ=YEARLY;BYMONTH=10;BYDAY=-1SU
END:STANDARD
END:VTIMEZONE
BEGIN:VEVENT
DTSTAMP:20260419T192821Z
UID:69e510b53c16e
DTSTART;VALUE=DATE:20230920
DTEND;VALUE=DATE:20230920
SUMMARY:Maisdemodag
URL;VALUE=URI:https://www.landbouwagenda.nl/evenement/6769-maisdemodag/
DESCRIPTION:Maisdemodag van 13.00 tot 17.00 uur
LOCATION:Jobe Zaden Burgemeester Aartslaan 17 5571 TR Bergeijk
END:VEVENT
END:VCALENDAR