BEGIN:VCALENDAR
VERSION:2.0
PRODID:-//www.landbouwagenda.nl//Agenda functie
X-WR-CALNAME:Rondleiding experiment groenbemesters
CALSCALE:GREGORIAN
BEGIN:VTIMEZONE
TZID:Europe/Amsterdam
TZURL:http://tzurl.org/zoneinfo-outlook/Europe/Amsterdam
X-LIC-LOCATION:Europe/Amsterdam
BEGIN:DAYLIGHT
TZOFFSETFROM:+0100
TZOFFSETTO:+0200
TZNAME:CEST
DTSTART:19700329T020000
RRULE:FREQ=YEARLY;BYMONTH=3;BYDAY=-1SU
END:DAYLIGHT
BEGIN:STANDARD
TZOFFSETFROM:+0200
TZOFFSETTO:+0100
TZNAME:CET
DTSTART:19701025T030000
RRULE:FREQ=YEARLY;BYMONTH=10;BYDAY=-1SU
END:STANDARD
END:VTIMEZONE
BEGIN:VEVENT
DTSTAMP:20260424T152632Z
UID:69eb6f8812b9b
DTSTART;VALUE=DATE:20231113
DTEND;VALUE=DATE:20231113
SUMMARY:Rondleiding experiment groenbemesters
URL;VALUE=URI:https://www.landbouwagenda.nl/evenement/6777-rondleiding-experiment-groenbemesters/
DESCRIPTION:De positieve effecten van groenbemester zijn wel bekend. Recente inzichten laten zien dat mengsels van groenbemesters nog meer voordelen hebben. In een praktijkexperiment bij tuinderijen De Guijt en Tuin de Es worden drie mengsels vergeleken met een mono-cultuur groenbemester. Dit om er achter te komen welke het beste effect heeft op structuur, biodiversiteit en bodemleven. Bij een rondleiding op 13 november in Vught wordt de aanpak gepresenteerd en kunnen we de gewassen in het veld te beoordelen. Met uiteraard volop gelegenheid om je kennis en ervaring met collega’s uit te wisselen. Kijk voor meer informatie en aanmelden op de website.
LOCATION:Tuin De Guijt Bleijendijk 1a 5261 NL Vught
END:VEVENT
END:VCALENDAR