BEGIN:VCALENDAR
VERSION:2.0
PRODID:-//www.landbouwagenda.nl//Agenda functie
X-WR-CALNAME:Slootsmid Mesttechniek Kennisdagen
CALSCALE:GREGORIAN
BEGIN:VTIMEZONE
TZID:Europe/Amsterdam
TZURL:http://tzurl.org/zoneinfo-outlook/Europe/Amsterdam
X-LIC-LOCATION:Europe/Amsterdam
BEGIN:DAYLIGHT
TZOFFSETFROM:+0100
TZOFFSETTO:+0200
TZNAME:CEST
DTSTART:19700329T020000
RRULE:FREQ=YEARLY;BYMONTH=3;BYDAY=-1SU
END:DAYLIGHT
BEGIN:STANDARD
TZOFFSETFROM:+0200
TZOFFSETTO:+0100
TZNAME:CET
DTSTART:19701025T030000
RRULE:FREQ=YEARLY;BYMONTH=10;BYDAY=-1SU
END:STANDARD
END:VTIMEZONE
BEGIN:VEVENT
DTSTAMP:20260423T120059Z
UID:69e9eddb4aaa6
DTSTART;VALUE=DATE:20230922
DTEND;VALUE=DATE:20230922
SUMMARY:Slootsmid Mesttechniek Kennisdagen
URL;VALUE=URI:https://www.landbouwagenda.nl/evenement/6783-slootsmid-mesttechniek-kennisdagen/
DESCRIPTION:Vrijdag 22 september van 13.00 tot 16.30 uur Kennissessies ‘’Meer uit mest en bodem’’. Met o.a. de volgende partners Bemest op z’n Best, JOZ, Lely, Slootsmid Mesttechniek en For Farmers.
LOCATION:Slootsmid Mesttechniek B.V. Korenbree 40a 7271 LH Borculo
END:VEVENT
END:VCALENDAR