BEGIN:VCALENDAR
VERSION:2.0
PRODID:-//www.landbouwagenda.nl//Agenda functie
X-WR-CALNAME:Open Dag bij Mts. C.F.M. Voshart
CALSCALE:GREGORIAN
BEGIN:VTIMEZONE
TZID:Europe/Amsterdam
TZURL:http://tzurl.org/zoneinfo-outlook/Europe/Amsterdam
X-LIC-LOCATION:Europe/Amsterdam
BEGIN:DAYLIGHT
TZOFFSETFROM:+0100
TZOFFSETTO:+0200
TZNAME:CEST
DTSTART:19700329T020000
RRULE:FREQ=YEARLY;BYMONTH=3;BYDAY=-1SU
END:DAYLIGHT
BEGIN:STANDARD
TZOFFSETFROM:+0200
TZOFFSETTO:+0100
TZNAME:CET
DTSTART:19701025T030000
RRULE:FREQ=YEARLY;BYMONTH=10;BYDAY=-1SU
END:STANDARD
END:VTIMEZONE
BEGIN:VEVENT
DTSTAMP:20260421T042229Z
UID:69e6df658a87f
DTSTART;VALUE=DATE:20231013
DTEND;VALUE=DATE:20231013
SUMMARY:Open Dag bij Mts. C.F.M. Voshart
URL;VALUE=URI:https://www.landbouwagenda.nl/evenement/6792-open-dag-bij-mts.-c.f.m.-voshart/
DESCRIPTION:Op 13 oktober vindt de open dag plaats bij Mts. C.F.M. Voshart aan de Molendijk 45 in Numansdorp. \n\nNa jaren te hebben gemolken in de melkput is de familie Voshart in maart 2023 opgestart met twee Lely Astronaut A5 melkrobots. De familie Voshart en de koeien zijn inmiddels volledig gewend aan de robotisering en willen niet meer anders. Ze zetten dan ook met veel plezier de staldeuren open om hun bedrijf aan het publiek te tonen!\n\n\nWat is er te zien:\n- Verbouwde stal met circa 135 melkkoeien en 80 stuks jongvee\n- Zuivere Fleckvieh koeien\n- Twee Lely Astronaut A5 melkrobots met optrekhekken en ventilatoren\n- Beweiding in combinatie met robotmelken\n- Traditionele roostervloer\n- Lely Discovery mestrobot\n- Lely Juno voerschuif\n- Kalveropfok eerste 4 maanden volledig buiten d.m.v. groepshokken\n- Mueller melktank\n- Demonstratie van de Lely Sphere\n\n\nStandhouders:\n- De Heus Voeders\n- Mueller B.V.\n- Bosch Beton\n- Bayern Genetik GmbH\n- Veehandel Auke van Knapen\n- CrossAgro\n\n- Dierenartsenpraktijk Oude-Tonge\n- Ingenieursbureau Heemskerk\n- D. Kroese BV\n- Berg Stal & Weide inrichting\n- Alpuro Breeding\n- ABN AMRO Bank NV\n- Overwater Rentmeesterskantoor BV\n- Vreugdenhil Dairy Foods\n- Overwater Assurantie Adviesbureau B.V.\n- Lely Sphere\n- Bonda\n- Limagrain Nederland\n\n\nGelieve niet in bedrijfskleding te komen.
LOCATION:Mts. C.F.M Voshart Molendijk 45 3281 LT Numansdorp
END:VEVENT
END:VCALENDAR