BEGIN:VCALENDAR
VERSION:2.0
PRODID:-//www.landbouwagenda.nl//Agenda functie
X-WR-CALNAME:HZPC Teler Informatie Bijeenkomst (TIB)
CALSCALE:GREGORIAN
BEGIN:VTIMEZONE
TZID:Europe/Amsterdam
TZURL:http://tzurl.org/zoneinfo-outlook/Europe/Amsterdam
X-LIC-LOCATION:Europe/Amsterdam
BEGIN:DAYLIGHT
TZOFFSETFROM:+0100
TZOFFSETTO:+0200
TZNAME:CEST
DTSTART:19700329T020000
RRULE:FREQ=YEARLY;BYMONTH=3;BYDAY=-1SU
END:DAYLIGHT
BEGIN:STANDARD
TZOFFSETFROM:+0200
TZOFFSETTO:+0100
TZNAME:CET
DTSTART:19701025T030000
RRULE:FREQ=YEARLY;BYMONTH=10;BYDAY=-1SU
END:STANDARD
END:VTIMEZONE
BEGIN:VEVENT
DTSTAMP:20260423T230534Z
UID:69ea899ec1815
DTSTART;VALUE=DATE:20231122
DTEND;VALUE=DATE:20231122
SUMMARY:HZPC Teler Informatie Bijeenkomst (TIB)
URL;VALUE=URI:https://www.landbouwagenda.nl/evenement/6821-hzpc-teler-informatie-bijeenkomst--tib-/
DESCRIPTION:Bijeenkomst voor de bij HZPC aangesloten pootgoedtelers.\nAanvang: 19.30 uur\nBuitendienstgebied: Menno Fokkema
LOCATION:Café &#039;Het Graauwe Paard&#039; Monnikebildtdijk 1 9078 VB Oude Bildtzijl
END:VEVENT
END:VCALENDAR