BEGIN:VCALENDAR
VERSION:2.0
PRODID:-//www.landbouwagenda.nl//Agenda functie
X-WR-CALNAME:Kennisevenement: Elektrificatie Mobiele Machines
CALSCALE:GREGORIAN
BEGIN:VTIMEZONE
TZID:Europe/Amsterdam
TZURL:http://tzurl.org/zoneinfo-outlook/Europe/Amsterdam
X-LIC-LOCATION:Europe/Amsterdam
BEGIN:DAYLIGHT
TZOFFSETFROM:+0100
TZOFFSETTO:+0200
TZNAME:CEST
DTSTART:19700329T020000
RRULE:FREQ=YEARLY;BYMONTH=3;BYDAY=-1SU
END:DAYLIGHT
BEGIN:STANDARD
TZOFFSETFROM:+0200
TZOFFSETTO:+0100
TZNAME:CET
DTSTART:19701025T030000
RRULE:FREQ=YEARLY;BYMONTH=10;BYDAY=-1SU
END:STANDARD
END:VTIMEZONE
BEGIN:VEVENT
DTSTAMP:20260421T213104Z
UID:69e7d078b2779
DTSTART;VALUE=DATE:20231206
DTEND;VALUE=DATE:20231206
SUMMARY:Kennisevenement: Elektrificatie Mobiele Machines
URL;VALUE=URI:https://www.landbouwagenda.nl/evenement/6978-kennisevenement--elektrificatie-mobiele-machines/
DESCRIPTION:Ben jij werkzaam als monteur, medewerker technische dienst of chef werkplaats? En kom jij in aanraking met elektrificatie bij mobiele machines in de landbouwtechniek, tuin en park techniek, het grondverzet of de industrie en intern transport? Zet dan 6 december in je agenda en kom naar het kennisevenement: Elektrificatie Mobiele Machines.	\n\nTijdens dit evenement kom je alles te weten over de laatste ontwikkelingen op het gebied van elektrificatie in de werkplaats en de toepassingen hiervan in mobiele machines.\n\nOok zoomen we in op veiligheidsaspecten, wet en regelgeving en ontdek je welke kennis je nodig hebt om aan deze machines te mogen sleutelen. We geven je dus ook écht praktische handvatten mee om in de praktijk toe te passen.
LOCATION:Aeres Tech Zandlaan 29 6717LN Ede Gld
END:VEVENT
END:VCALENDAR