BEGIN:VCALENDAR
VERSION:2.0
PRODID:-//www.landbouwagenda.nl//Agenda functie
X-WR-CALNAME:Boer jij Veilig?
CALSCALE:GREGORIAN
BEGIN:VTIMEZONE
TZID:Europe/Amsterdam
TZURL:http://tzurl.org/zoneinfo-outlook/Europe/Amsterdam
X-LIC-LOCATION:Europe/Amsterdam
BEGIN:DAYLIGHT
TZOFFSETFROM:+0100
TZOFFSETTO:+0200
TZNAME:CEST
DTSTART:19700329T020000
RRULE:FREQ=YEARLY;BYMONTH=3;BYDAY=-1SU
END:DAYLIGHT
BEGIN:STANDARD
TZOFFSETFROM:+0200
TZOFFSETTO:+0100
TZNAME:CET
DTSTART:19701025T030000
RRULE:FREQ=YEARLY;BYMONTH=10;BYDAY=-1SU
END:STANDARD
END:VTIMEZONE
BEGIN:VEVENT
DTSTAMP:20260421T105347Z
UID:69e73b1b48458
DTSTART;VALUE=DATE:20231207
DTEND;VALUE=DATE:20231207
SUMMARY:Boer jij Veilig?
URL;VALUE=URI:https://www.landbouwagenda.nl/evenement/7057-boer-jij-veilig-/
DESCRIPTION:De  agrarische sector wordt steeds vaker getroffen door diefstal en ondermijning. Je kostbare GPS-systemen en landbouwvoertuigen lopen risico om gestolen te worden, en jouw pand kan zelfs onbedoeld worden gebruikt als een drugslab. We willen je niet alleen waarschuwen voor deze dreigingen, we willen je ook helpen om ze te voorkomen.
LOCATION:In een nieuwe schuur Spuidijk 20 3264 LD Nieuw-Beijerland
END:VEVENT
END:VCALENDAR