BEGIN:VCALENDAR
VERSION:2.0
PRODID:-//www.landbouwagenda.nl//Agenda functie
X-WR-CALNAME:Themadag uien
CALSCALE:GREGORIAN
BEGIN:VTIMEZONE
TZID:Europe/Amsterdam
TZURL:http://tzurl.org/zoneinfo-outlook/Europe/Amsterdam
X-LIC-LOCATION:Europe/Amsterdam
BEGIN:DAYLIGHT
TZOFFSETFROM:+0100
TZOFFSETTO:+0200
TZNAME:CEST
DTSTART:19700329T020000
RRULE:FREQ=YEARLY;BYMONTH=3;BYDAY=-1SU
END:DAYLIGHT
BEGIN:STANDARD
TZOFFSETFROM:+0200
TZOFFSETTO:+0100
TZNAME:CET
DTSTART:19701025T030000
RRULE:FREQ=YEARLY;BYMONTH=10;BYDAY=-1SU
END:STANDARD
END:VTIMEZONE
BEGIN:VEVENT
DTSTAMP:20260422T033435Z
UID:69e825ab654a3
DTSTART;VALUE=DATE:20240110
DTEND;VALUE=DATE:20240110
SUMMARY:Themadag uien
URL;VALUE=URI:https://www.landbouwagenda.nl/evenement/7063-themadag-uien/
DESCRIPTION:Jaarlijkse uitnodiging voor de themadag uien op 10 januari. \nDit evenement wordt georganiseerd vanuit de landbouwbeurs  Noord en Centraal Nederland.
LOCATION:De Meerpaal Dronten De Rede 80 8251 EX Dronten
END:VEVENT
END:VCALENDAR