BEGIN:VCALENDAR
VERSION:2.0
PRODID:-//www.landbouwagenda.nl//Agenda functie
X-WR-CALNAME:Inloopdag Logic-25 erfwindmolen
CALSCALE:GREGORIAN
BEGIN:VTIMEZONE
TZID:Europe/Amsterdam
TZURL:http://tzurl.org/zoneinfo-outlook/Europe/Amsterdam
X-LIC-LOCATION:Europe/Amsterdam
BEGIN:DAYLIGHT
TZOFFSETFROM:+0100
TZOFFSETTO:+0200
TZNAME:CEST
DTSTART:19700329T020000
RRULE:FREQ=YEARLY;BYMONTH=3;BYDAY=-1SU
END:DAYLIGHT
BEGIN:STANDARD
TZOFFSETFROM:+0200
TZOFFSETTO:+0100
TZNAME:CET
DTSTART:19701025T030000
RRULE:FREQ=YEARLY;BYMONTH=10;BYDAY=-1SU
END:STANDARD
END:VTIMEZONE
BEGIN:VEVENT
DTSTAMP:20260420T003013Z
UID:69e55775b26ae
DTSTART;VALUE=DATE:20231207
DTEND;VALUE=DATE:20231207
SUMMARY:Inloopdag Logic-25 erfwindmolen
URL;VALUE=URI:https://www.landbouwagenda.nl/evenement/7075-inloopdag-logic-25-erfwindmolen/
DESCRIPTION:De Logic-25 erfwindmolen van dichtbij bekijken? Kom naar de inloopdag. \n7 december van 10-16u\n\n25kW erfwindmolen met een ashoogte van 15m\nStilste in zijn klasse\nRotatiesnelheid van slechts 44 rotaties per minuut\nRotoroppervlak van bijna 200m2\nOpbrengst tot 80.000kWh per jaar\n\nDe Logic-25 is ook leverbaar met een ashoogte van 20, 25 of 30 meter.\nOm optimaal gebruik te kunnen maken van de opgewekte energie kan de Logic-25 worden geleverd met een batterijsysteem.\n\nOnze specialisten zijn aanwezig voor het beantwoorden van vragen en informatie.\n\nGraag tot ziens!
LOCATION: Dokkumerwei 2 9146 CD Hantumeruitburen
END:VEVENT
END:VCALENDAR